BEGIN:VCALENDAR
VERSION:2.0
PRODID:-//Escenario Tlaxcala - ECPv6.15.16//NONSGML v1.0//EN
CALSCALE:GREGORIAN
METHOD:PUBLISH
X-WR-CALNAME:Escenario Tlaxcala
X-ORIGINAL-URL:https://escenariotlx.com
X-WR-CALDESC:Eventos para Escenario Tlaxcala
REFRESH-INTERVAL;VALUE=DURATION:PT1H
X-Robots-Tag:noindex
X-PUBLISHED-TTL:PT1H
BEGIN:VTIMEZONE
TZID:America/New_York
BEGIN:DAYLIGHT
TZOFFSETFROM:-0500
TZOFFSETTO:-0400
TZNAME:EDT
DTSTART:20220313T070000
END:DAYLIGHT
BEGIN:STANDARD
TZOFFSETFROM:-0400
TZOFFSETTO:-0500
TZNAME:EST
DTSTART:20221106T060000
END:STANDARD
BEGIN:DAYLIGHT
TZOFFSETFROM:-0500
TZOFFSETTO:-0400
TZNAME:EDT
DTSTART:20230312T070000
END:DAYLIGHT
BEGIN:STANDARD
TZOFFSETFROM:-0400
TZOFFSETTO:-0500
TZNAME:EST
DTSTART:20231105T060000
END:STANDARD
BEGIN:DAYLIGHT
TZOFFSETFROM:-0500
TZOFFSETTO:-0400
TZNAME:EDT
DTSTART:20240310T070000
END:DAYLIGHT
BEGIN:STANDARD
TZOFFSETFROM:-0400
TZOFFSETTO:-0500
TZNAME:EST
DTSTART:20241103T060000
END:STANDARD
END:VTIMEZONE
BEGIN:VEVENT
DTSTART;TZID=America/New_York:20230428T100000
DTEND;TZID=America/New_York:20230428T140000
DTSTAMP:20260422T224818
CREATED:20230424T195210Z
LAST-MODIFIED:20230424T195401Z
UID:10000279-1682676000-1682690400@escenariotlx.com
SUMMARY:Día del niño y niña en Atlangatepec
DESCRIPTION:El Ayuntamiento y DIF Municipal de Atlangatepec te invita a asistir y disfrutar del festival del día del niño\, el viernes 28 de abril a partir de las 10:00 a.m en la explanada de la presidencia municipal. \nEn el evento habrá show paw patrol\, show de circo con payasos\, pintacaritas\, mini feria\, inflables\, juegos mecánicos\, juguetes y lunch. \nEl evento es totalmente gratuito. \n \n\nTe puede interesar este evento: Día de la niñez en Amaxac de Guerrero
URL:https://escenariotlx.com/evento/dia-del-nino-en-atlangatepec-festival/
LOCATION:Atlangatepec Tlaxcala
CATEGORIES:Festivales
ATTACH;FMTTYPE=image/jpeg:https://escenariotlx.com/wp-content/uploads/2023/04/dia-del-nino-atlanga.jpg
END:VEVENT
END:VCALENDAR