BEGIN:VCALENDAR
VERSION:2.0
PRODID:-//Escenario Tlaxcala - ECPv6.15.16//NONSGML v1.0//EN
CALSCALE:GREGORIAN
METHOD:PUBLISH
X-WR-CALNAME:Escenario Tlaxcala
X-ORIGINAL-URL:https://escenariotlx.com
X-WR-CALDESC:Eventos para Escenario Tlaxcala
REFRESH-INTERVAL;VALUE=DURATION:PT1H
X-Robots-Tag:noindex
X-PUBLISHED-TTL:PT1H
BEGIN:VTIMEZONE
TZID:America/New_York
BEGIN:DAYLIGHT
TZOFFSETFROM:-0500
TZOFFSETTO:-0400
TZNAME:EDT
DTSTART:20240310T070000
END:DAYLIGHT
BEGIN:STANDARD
TZOFFSETFROM:-0400
TZOFFSETTO:-0500
TZNAME:EST
DTSTART:20241103T060000
END:STANDARD
BEGIN:DAYLIGHT
TZOFFSETFROM:-0500
TZOFFSETTO:-0400
TZNAME:EDT
DTSTART:20250309T070000
END:DAYLIGHT
BEGIN:STANDARD
TZOFFSETFROM:-0400
TZOFFSETTO:-0500
TZNAME:EST
DTSTART:20251102T060000
END:STANDARD
BEGIN:DAYLIGHT
TZOFFSETFROM:-0500
TZOFFSETTO:-0400
TZNAME:EDT
DTSTART:20260308T070000
END:DAYLIGHT
BEGIN:STANDARD
TZOFFSETFROM:-0400
TZOFFSETTO:-0500
TZNAME:EST
DTSTART:20261101T060000
END:STANDARD
END:VTIMEZONE
BEGIN:VEVENT
DTSTART;TZID=America/New_York:20250707T163000
DTEND;TZID=America/New_York:20250707T173000
DTSTAMP:20260423T062854
CREATED:20250627T163659Z
LAST-MODIFIED:20250627T163659Z
UID:10002307-1751905800-1751909400@escenariotlx.com
SUMMARY:Show de títeres en  Xiloxoxtla
DESCRIPTION:
URL:https://escenariotlx.com/evento/show-de-titeres-en-xiloxoxtla/
LOCATION:Xiloxoxtla Tlaxcala
CATEGORIES:Exposición
ATTACH;FMTTYPE=image/jpeg:https://escenariotlx.com/wp-content/uploads/2025/06/506767631_1284483553680856_2750884625269562855_n.jpg
END:VEVENT
BEGIN:VEVENT
DTSTART;TZID=America/New_York:20250704T173000
DTEND;TZID=America/New_York:20250704T183000
DTSTAMP:20260423T062854
CREATED:20250627T162700Z
LAST-MODIFIED:20250627T162700Z
UID:10002303-1751650200-1751653800@escenariotlx.com
SUMMARY:Juegos inflables en Xiloxoxtla
DESCRIPTION:
URL:https://escenariotlx.com/evento/juegos-inflables-en-xiloxoxtla/
LOCATION:Xiloxoxtla Tlaxcala
ATTACH;FMTTYPE=image/jpeg:https://escenariotlx.com/wp-content/uploads/2025/06/506767631_1284483553680856_2750884625269562855_n.jpg
END:VEVENT
BEGIN:VEVENT
DTSTART;TZID=America/New_York:20250303T200000
DTEND;TZID=America/New_York:20250303T210000
DTSTAMP:20260423T062854
CREATED:20250227T171947Z
LAST-MODIFIED:20250227T172423Z
UID:10000570-1741032000-1741035600@escenariotlx.com
SUMMARY:Gran remate de carnaval San Salvador Tzompantepec
DESCRIPTION:
URL:https://escenariotlx.com/evento/gran-remate-de-carnaval-san-salvador-tzompantepec/
LOCATION:San Salvador Tzompantepec
CATEGORIES:Danza
ATTACH;FMTTYPE=image/png:https://escenariotlx.com/wp-content/uploads/2025/02/480666509_1180571347405411_5342665164177768925_n.png
END:VEVENT
END:VCALENDAR