BEGIN:VCALENDAR
VERSION:2.0
PRODID:-//Escenario Tlaxcala - ECPv6.15.16//NONSGML v1.0//EN
CALSCALE:GREGORIAN
METHOD:PUBLISH
X-WR-CALNAME:Escenario Tlaxcala
X-ORIGINAL-URL:https://escenariotlx.com
X-WR-CALDESC:Eventos para Escenario Tlaxcala
REFRESH-INTERVAL;VALUE=DURATION:PT1H
X-Robots-Tag:noindex
X-PUBLISHED-TTL:PT1H
BEGIN:VTIMEZONE
TZID:America/New_York
BEGIN:DAYLIGHT
TZOFFSETFROM:-0500
TZOFFSETTO:-0400
TZNAME:EDT
DTSTART:20240310T070000
END:DAYLIGHT
BEGIN:STANDARD
TZOFFSETFROM:-0400
TZOFFSETTO:-0500
TZNAME:EST
DTSTART:20241103T060000
END:STANDARD
BEGIN:DAYLIGHT
TZOFFSETFROM:-0500
TZOFFSETTO:-0400
TZNAME:EDT
DTSTART:20250309T070000
END:DAYLIGHT
BEGIN:STANDARD
TZOFFSETFROM:-0400
TZOFFSETTO:-0500
TZNAME:EST
DTSTART:20251102T060000
END:STANDARD
BEGIN:DAYLIGHT
TZOFFSETFROM:-0500
TZOFFSETTO:-0400
TZNAME:EDT
DTSTART:20260308T070000
END:DAYLIGHT
BEGIN:STANDARD
TZOFFSETFROM:-0400
TZOFFSETTO:-0500
TZNAME:EST
DTSTART:20261101T060000
END:STANDARD
END:VTIMEZONE
BEGIN:VEVENT
DTSTART;TZID=America/New_York:20251017T150000
DTEND;TZID=America/New_York:20251017T180000
DTSTAMP:20260423T082832
CREATED:20251014T212627Z
LAST-MODIFIED:20251014T212627Z
UID:10002325-1760713200-1760724000@escenariotlx.com
SUMMARY:Jornada de Doble Nacionalidad en Tlaltelulco
DESCRIPTION:⭐️ ¡CAFAMI tiene próxima Jornada de Información ya está muy cerca! \nEn esta ocasión\, se ofrecerá asesoría y acompañamiento a cualquier persona interesada en el municipio de La Magdalena Tlaltelulco. \n¡Recuerda que la Doble Nacionalidad es tu derecho y que ejercerlo trae consigo muchos beneficios! Acude a nuestro encuentro de libre acceso: \n✅ Viernes 17 de Octubre\, 2025.\n📌 Sala de Cabildo de la Presidencia Municipal\,\nLa Magdalena Tlaltelulco\, Tlaxcala.\n⏰ 3:00 a 6:00 PM. \n¡Te esperamos!
URL:https://escenariotlx.com/evento/jornada-de-doble-nacionalidad-en-tlaltelulco/
LOCATION:TLALTELULCO
CATEGORIES:Conversatorio
ATTACH;FMTTYPE=image/jpeg:https://escenariotlx.com/wp-content/uploads/2025/10/Doble-Nacionalidad-en-Tlaltelulco.jpg
END:VEVENT
BEGIN:VEVENT
DTSTART;TZID=America/New_York:20250425T200000
DTEND;TZID=America/New_York:20250425T210000
DTSTAMP:20260423T082832
CREATED:20250422T164446Z
LAST-MODIFIED:20250422T164446Z
UID:10001796-1745611200-1745614800@escenariotlx.com
SUMMARY:Conversatorio Binacional: Voces Invisibles
DESCRIPTION:
URL:https://escenariotlx.com/evento/conversatorio-binacional-voces-invisibles/
LOCATION:Colonia Centro Tlaxcala
ATTACH;FMTTYPE=image/webp:https://escenariotlx.com/wp-content/uploads/2025/04/WhatsApp-Image-2025-04-22-at-10.34.05-AM.webp
END:VEVENT
END:VCALENDAR