BEGIN:VCALENDAR
VERSION:2.0
PRODID:-//Escenario Tlaxcala - ECPv6.15.16//NONSGML v1.0//EN
CALSCALE:GREGORIAN
METHOD:PUBLISH
X-WR-CALNAME:Escenario Tlaxcala
X-ORIGINAL-URL:https://escenariotlx.com
X-WR-CALDESC:Eventos para Escenario Tlaxcala
REFRESH-INTERVAL;VALUE=DURATION:PT1H
X-Robots-Tag:noindex
X-PUBLISHED-TTL:PT1H
BEGIN:VTIMEZONE
TZID:America/New_York
BEGIN:DAYLIGHT
TZOFFSETFROM:-0500
TZOFFSETTO:-0400
TZNAME:EDT
DTSTART:20240310T070000
END:DAYLIGHT
BEGIN:STANDARD
TZOFFSETFROM:-0400
TZOFFSETTO:-0500
TZNAME:EST
DTSTART:20241103T060000
END:STANDARD
BEGIN:DAYLIGHT
TZOFFSETFROM:-0500
TZOFFSETTO:-0400
TZNAME:EDT
DTSTART:20250309T070000
END:DAYLIGHT
BEGIN:STANDARD
TZOFFSETFROM:-0400
TZOFFSETTO:-0500
TZNAME:EST
DTSTART:20251102T060000
END:STANDARD
BEGIN:DAYLIGHT
TZOFFSETFROM:-0500
TZOFFSETTO:-0400
TZNAME:EDT
DTSTART:20260308T070000
END:DAYLIGHT
BEGIN:STANDARD
TZOFFSETFROM:-0400
TZOFFSETTO:-0500
TZNAME:EST
DTSTART:20261101T060000
END:STANDARD
END:VTIMEZONE
BEGIN:VEVENT
DTSTART;VALUE=DATE:20251128
DTEND;VALUE=DATE:20251129
DTSTAMP:20260419T123449
CREATED:20250128T184118Z
LAST-MODIFIED:20250128T184118Z
UID:10000521-1764288000-1764374399@escenariotlx.com
SUMMARY:Comersatorios Noviembre 2025:Maíz
DESCRIPTION:Comer\, Aprender y Conversar \nLos Comersatorios son encuentros mensuales organizados por Ecoalimentos y Centro de Investigación De La Cocina Tlaxcalteca\, donde sentados a la mesa los participantes conocen propuestas gastronómicas y aprenden sobre alimentes a través del gusto que incluyen invitados especiales y temáticas distintas por mes. \nEn el mes de Noviembre se lleva a acabo el Conservatorio 2025  El día 28 de Noviembre del 2025\, con la temática: Maíz  en el Centro de Investigación De La Cocina Tlaxcalteca.  \nCon una aportación de $450 por persona \n  \n @consumoconscientetlx / @cocina_tlaxcalteca  Whatsapp: 2461470237 
URL:https://escenariotlx.com/evento/comersatorios-noviembre-2025maiz/
CATEGORIES:Gastronomía
ATTACH;FMTTYPE=image/png:https://escenariotlx.com/wp-content/uploads/2025/01/75e5e9b6-6c77-46fe-9acb-bf577d022d4c.png
ORGANIZER;CN="Cecilia Barocio Hern%C3%A1ndez":MAILTO:ecoalimentostlax@gmail.com
END:VEVENT
BEGIN:VEVENT
DTSTART;TZID=America/New_York:20251031T080000
DTEND;TZID=America/New_York:20251031T170000
DTSTAMP:20260419T123449
CREATED:20250128T183849Z
LAST-MODIFIED:20250128T183849Z
UID:10000520-1761897600-1761930000@escenariotlx.com
SUMMARY:Comersatorios Octubre 2025:Cannabis
DESCRIPTION:Comer\, Aprender y Conversar\nLos Comersatorios son encuentros mensuales organizados por Ecoalimentos y Centro de Investigación De La Cocina Tlaxcalteca\, donde sentados a la mesa los participantes conocen propuestas gastronómicas y aprenden sobre alimentes a través del gusto que incluyen invitados especiales y temáticas distintas por mes. \nEn el mes de Octubre se lleva a acabo el Conservatorio 2025  El día 31 de Octubre del 2025\, con la temática: Cannabis en el Centro de Investigación De La Cocina Tlaxcalteca.  \nCon una aportación de $450 por persona \n  \n @consumoconscientetlx / @cocina_tlaxcalteca  Whatsapp: 2461470237 
URL:https://escenariotlx.com/evento/comersatorios-octubre-2025cannabis/
LOCATION:Centro de Investigación de la Cocina Tlaxcalteca\, Zitlalpopocatl 16\, Tlaxcala\, Centro\, Tlaxcala\, Tlaxcala\, 90000\, México
CATEGORIES:Gastronomía
ATTACH;FMTTYPE=image/png:https://escenariotlx.com/wp-content/uploads/2025/01/75e5e9b6-6c77-46fe-9acb-bf577d022d4c.png
ORGANIZER;CN="Cecilia Barocio Hern%C3%A1ndez":MAILTO:ecoalimentostlax@gmail.com
END:VEVENT
BEGIN:VEVENT
DTSTART;VALUE=DATE:20250926
DTEND;VALUE=DATE:20250927
DTSTAMP:20260419T123449
CREATED:20250128T183425Z
LAST-MODIFIED:20250128T185035Z
UID:10000519-1758844800-1758931199@escenariotlx.com
SUMMARY:Comersatorios Septiembre 2025: Alimentos Agrocológicos
DESCRIPTION:Comer\, Aprender y Conversar\nLos Comersatorios son encuentros mensuales organizados por Ecoalimentos y Centro de Investigación De La Cocina Tlaxcalteca\, donde sentados a la mesa los participantes conocen propuestas gastronómicas y aprenden sobre alimentes a través del gusto que incluyen invitados especiales y temáticas distintas por mes. \nEn el mes de Septiembre se lleva a acabo el Conservatorio 2025  El día 26 de Septiembre  del 2025\, con la temática: Alimentos Agrocológicos en el Centro de Investigación De La Cocina Tlaxcalteca.  \nCon una aportación de $450 por persona \n  \n @consumoconscientetlx / @cocina_tlaxcalteca  Whatsapp: 2461470237
URL:https://escenariotlx.com/evento/comersatorios-septiembre-2025-alimentos-agrocologicos/
LOCATION:Centro de Investigación de la Cocina Tlaxcalteca\, Zitlalpopocatl 16\, Tlaxcala\, Centro\, Tlaxcala\, Tlaxcala\, 90000\, México
CATEGORIES:Gastronomía
ATTACH;FMTTYPE=image/png:https://escenariotlx.com/wp-content/uploads/2025/01/75e5e9b6-6c77-46fe-9acb-bf577d022d4c.png
ORGANIZER;CN="Cecilia Barocio Hern%C3%A1ndez":MAILTO:ecoalimentostlax@gmail.com
END:VEVENT
BEGIN:VEVENT
DTSTART;VALUE=DATE:20250829
DTEND;VALUE=DATE:20250830
DTSTAMP:20260419T123449
CREATED:20250128T183021Z
LAST-MODIFIED:20250128T185027Z
UID:10000518-1756425600-1756511999@escenariotlx.com
SUMMARY:Comersatorios Agosto 2025:Hongos Silvestres
DESCRIPTION:Comer\, Aprender y Conversar\nLos Comersatorios son encuentros mensuales organizados por Ecoalimentos y Centro de Investigación De La Cocina Tlaxcalteca\, donde sentados a la mesa los participantes conocen propuestas gastronómicas y aprenden sobre alimentes a través del gusto que incluyen invitados especiales y temáticas distintas por mes. \nEn el mes de Agosto se lleva a acabo el Conservatorio 2025  El día 29 de Agosto del 2025\, con la temática:Hongos Silvestres en el Centro de Investigación De La Cocina Tlaxcalteca.  \nCon una aportación de $450 por persona \n  \n @consumoconscientetlx / @cocina_tlaxcalteca  Whatsapp: 2461470237 
URL:https://escenariotlx.com/evento/comersatorios-agosto-2025hongos-silvestres/
LOCATION:Centro de Investigación de la Cocina Tlaxcalteca\, Zitlalpopocatl 16\, Tlaxcala\, Centro\, Tlaxcala\, Tlaxcala\, 90000\, México
CATEGORIES:Gastronomía
ATTACH;FMTTYPE=image/png:https://escenariotlx.com/wp-content/uploads/2025/01/75e5e9b6-6c77-46fe-9acb-bf577d022d4c.png
ORGANIZER;CN="Cecilia Barocio Hern%C3%A1ndez":MAILTO:ecoalimentostlax@gmail.com
END:VEVENT
BEGIN:VEVENT
DTSTART;VALUE=DATE:20250725
DTEND;VALUE=DATE:20250726
DTSTAMP:20260419T123449
CREATED:20250128T182656Z
LAST-MODIFIED:20250128T185017Z
UID:10000517-1753401600-1753487999@escenariotlx.com
SUMMARY:Comersatorios Julio 2025:Tunas De Colores
DESCRIPTION:Comer\, Aprender y Conversar \nLos Comersatorios son encuentros mensuales organizados por Ecoalimentos y Centro de Investigación De La Cocina Tlaxcalteca\, donde sentados a la mesa los participantes conocen propuestas gastronómicas y aprenden sobre alimentes a través del gusto que incluyen invitados especiales y temáticas distintas por mes. \nEn el mes de Julio  se lleva a acabo el Conservatorio 2025  El día 25 de Julio del 2025\, con la temática: Tunas De Colores  en el Centro de Investigación De La Cocina Tlaxcalteca.  \nCon una aportación de $450 por persona \n  \n @consumoconscientetlx / @cocina_tlaxcalteca  Whatsapp: 2461470237 
URL:https://escenariotlx.com/evento/comersatorios-julio-2025tunas-de-colores/
LOCATION:Centro de Investigación de la Cocina Tlaxcalteca\, Zitlalpopocatl 16\, Tlaxcala\, Centro\, Tlaxcala\, Tlaxcala\, 90000\, México
CATEGORIES:Gastronomía
ATTACH;FMTTYPE=image/png:https://escenariotlx.com/wp-content/uploads/2025/01/75e5e9b6-6c77-46fe-9acb-bf577d022d4c.png
ORGANIZER;CN="Cecilia Barocio Hern%C3%A1ndez":MAILTO:ecoalimentostlax@gmail.com
END:VEVENT
BEGIN:VEVENT
DTSTART;VALUE=DATE:20250627
DTEND;VALUE=DATE:20250628
DTSTAMP:20260419T123449
CREATED:20250128T181004Z
LAST-MODIFIED:20250128T185006Z
UID:10000516-1750982400-1751068799@escenariotlx.com
SUMMARY:Comersatorios Junio 2025: Barro Bruñido y Mezcal
DESCRIPTION:Comer\, Aprender y Conversar\nLos Comersatorios son encuentros mensuales organizados por Ecoalimentos y Centro de Investigación De La Cocina Tlaxcalteca\, donde sentados a la mesa los participantes conocen propuestas gastronómicas y aprenden sobre alimentes a través del gusto que incluyen invitados especiales y temáticas distintas por mes. \nEn el mes de Junio se lleva a acabo el Conservatorio 2025  El día 27 de Junio de 2025\, con la temática: Barro Bruñido y Mezcal  en el Centro de Investigación De La Cocina Tlaxcalteca. \nCon una aportación de $450 por persona \n  \n @consumoconscientetlx / @cocina_tlaxcalteca  Whatsapp: 2461470237 
URL:https://escenariotlx.com/evento/comersatorios-junio-2025-barro-brunido-y-mezcal/
LOCATION:Centro de Investigación de la Cocina Tlaxcalteca\, Zitlalpopocatl 16\, Tlaxcala\, Centro\, Tlaxcala\, Tlaxcala\, 90000\, México
CATEGORIES:Gastronomía
ATTACH;FMTTYPE=image/png:https://escenariotlx.com/wp-content/uploads/2025/01/75e5e9b6-6c77-46fe-9acb-bf577d022d4c.png
ORGANIZER;CN="Cecilia Barocio Hern%C3%A1ndez":MAILTO:ecoalimentostlax@gmail.com
END:VEVENT
BEGIN:VEVENT
DTSTART;VALUE=DATE:20250530
DTEND;VALUE=DATE:20250531
DTSTAMP:20260419T123449
CREATED:20250128T180147Z
LAST-MODIFIED:20250128T184925Z
UID:10000515-1748563200-1748649599@escenariotlx.com
SUMMARY:Comersatorios Mayo 2025: Cacao y Chocolate
DESCRIPTION:Comer\, Aprender y Conversar\nLos Comersatorios son encuentros mensuales organizados por Ecoalimentos y Centro de Investigación De La Cocina Tlaxcalteca\, donde sentados a la mesa los participantes conocen propuestas gastronómicas y aprenden sobre alimentes a través del gusto que incluyen invitados especiales y temáticas distintas por mes. \nEn el mes de Mayo se lleva a acabo el Conservatorio 2025  El día 30 de Mayo del 2025\, con la temática: Cacao y Chocolate  en el Centro de Investigación De La Cocina Tlaxcalteca. \nCon una aportación de $450 por persona \n  \n @consumoconscientetlx / @cocina_tlaxcalteca  Whatsapp: 2461470237 
URL:https://escenariotlx.com/evento/comersatorios-mayo-2025-cacao-y-chocolate/
LOCATION:Centro de Investigación de la Cocina Tlaxcalteca\, Zitlalpopocatl 16\, Tlaxcala\, Centro\, Tlaxcala\, Tlaxcala\, 90000\, México
ATTACH;FMTTYPE=image/png:https://escenariotlx.com/wp-content/uploads/2025/01/75e5e9b6-6c77-46fe-9acb-bf577d022d4c.png
ORGANIZER;CN="Cecilia Barocio Hern%C3%A1ndez":MAILTO:ecoalimentostlax@gmail.com
END:VEVENT
BEGIN:VEVENT
DTSTART;TZID=America/New_York:20250425T190000
DTEND;TZID=America/New_York:20250425T200000
DTSTAMP:20260419T123449
CREATED:20250128T175505Z
LAST-MODIFIED:20250411T153810Z
UID:10000514-1745607600-1745611200@escenariotlx.com
SUMMARY:Comersatorios Abril 2025: Sabores Del Mar
DESCRIPTION:Si eres fan de la gastronomía a base de pescados y mariscos y quieres aprender más sobre ellos para disfrutarlos de manera más consciente\, te esperamos para aprender y cuestionarnos juntos! \nLos Comersatorios son encuentros mensuales organizados por Ecoalimentos y Centro de Investigación De La Cocina Tlaxcalteca\, donde sentados a la mesa los participantes conocen propuestas gastronómicas y aprenden sobre alimentes a través del gusto que incluyen invitados especiales y temáticas distintas por mes. \nEn el mes de Abril se lleva a acabo el Conservatorio 2025  El día 25 de Abril del 2025\, con la temática:Sabores del mar en el Centro de Investigación De La Cocina Tlaxcalteca. \nCon una aportación de $450 por persona \n  \n @consumoconscientetlx / @cocina_tlaxcalteca  Whatsapp: 2461470237 
URL:https://escenariotlx.com/evento/comersatorios-abril-2025-sabores-del-mar/
LOCATION:Centro de Investigación de la Cocina Tlaxcalteca\, Zitlalpopocatl 16\, Tlaxcala\, Centro\, Tlaxcala\, Tlaxcala\, 90000\, México
CATEGORIES:Gastronomía
ATTACH;FMTTYPE=image/webp:https://escenariotlx.com/wp-content/uploads/2025/01/WhatsApp-Image-2025-04-11-at-9.09.08-AM-1.webp
ORGANIZER;CN="Cecilia Barocio Hern%C3%A1ndez":MAILTO:ecoalimentostlax@gmail.com
END:VEVENT
BEGIN:VEVENT
DTSTART;TZID=America/New_York:20250328T190000
DTEND;TZID=America/New_York:20250328T200000
DTSTAMP:20260419T123449
CREATED:20250128T174958Z
LAST-MODIFIED:20250311T033348Z
UID:10000513-1743188400-1743192000@escenariotlx.com
SUMMARY:Comersatorios Marzo 2025: Flores y Brotes Comestibles
DESCRIPTION:Comer\, Aprender y Conversar\nLos Comersatorios son encuentros mensuales organizados por Ecoalimentos y Centro de Investigación De La Cocina Tlaxcalteca\, donde sentados a la mesa los participantes conocen propuestas gastronómicas y aprenden sobre alimentes a través del gusto que incluyen invitados especiales y temáticas distintas por mes. \nEn el mes de Marzo se lleva a acabo el Conservatorio 2025  El día 28 de Marzo de 2025\, con la temática:Flores y Brotes Comestibles a cargo de Andrés Dorantes\, quien dentro de su hacer\, germina y da vida a gran diversidad de flores y brotes Comestibles usados normalmente para usos decorativos en la cocina\, pero pocos valorados en su significado y trabajo detrás. \nen el Centro de Investigación De La Cocina Tlaxcalteca. \nCon una aportación de $450 por persona \n @consumoconscientetlx / @cocina_tlaxcalteca       Whatsapp: 2461470237 
URL:https://escenariotlx.com/evento/conmersatorios-marzo-2025-flores-y-brotes-comestibles/
LOCATION:Centro de Investigación de la Cocina Tlaxcalteca\, Zitlalpopocatl 16\, Tlaxcala\, Centro\, Tlaxcala\, Tlaxcala\, 90000\, México
CATEGORIES:Gastronomía
ATTACH;FMTTYPE=image/jpeg:https://escenariotlx.com/wp-content/uploads/2025/01/abe8869e-ff9b-4808-9e51-f38385da077e.jpg
ORGANIZER;CN="Cecilia Barocio Hern%C3%A1ndez":MAILTO:ecoalimentostlax@gmail.com
END:VEVENT
BEGIN:VEVENT
DTSTART;TZID=America/New_York:20250228T190000
DTEND;TZID=America/New_York:20250228T210000
DTSTAMP:20260419T123449
CREATED:20250128T173534Z
LAST-MODIFIED:20250206T172209Z
UID:10000512-1740769200-1740776400@escenariotlx.com
SUMMARY:Comersatorios Febrero 2025: Comer\, Aprender y Conversar
DESCRIPTION:Los Comersatorios son encuentros mensuales organizados por Ecoalimentos y Centro de Investigación De La Cocina Tlaxcalteca\, donde sentados a la mesa los participantes conocen propuestas gastronómicas y aprenden sobre alimentos a través del gusto que incluyen invitados especiales y temáticas distintas por mes. \nEn el mes de Febrero se lleva a acabo el Conservatorio 2025  El día 28 de Febrero del 2025\, con la temática: Café en el Centro de Investigación De La Cocina Tlaxcalteca. \nCon una aportación de $450 por persona \n @consumoconscientetlx / @cocina_tlaxcalteca  Whatsapp: 2461470237  \n  \n  \n 
URL:https://escenariotlx.com/evento/comersatorios-febrero-2025-comer-aprender-y-conversar/
LOCATION:Centro de Investigación de la Cocina Tlaxcalteca\, Zitlalpopocatl 16\, Tlaxcala\, Centro\, Tlaxcala\, Tlaxcala\, 90000\, México
CATEGORIES:Gastronomía
ATTACH;FMTTYPE=image/png:https://escenariotlx.com/wp-content/uploads/2025/01/75e5e9b6-6c77-46fe-9acb-bf577d022d4c.png
ORGANIZER;CN="Cecilia Barocio Hern%C3%A1ndez":MAILTO:ecoalimentostlax@gmail.com
END:VEVENT
END:VCALENDAR