BEGIN:VCALENDAR
VERSION:2.0
PRODID:-//Escenario Tlaxcala - ECPv6.15.16//NONSGML v1.0//EN
CALSCALE:GREGORIAN
METHOD:PUBLISH
X-WR-CALNAME:Escenario Tlaxcala
X-ORIGINAL-URL:https://escenariotlx.com
X-WR-CALDESC:Eventos para Escenario Tlaxcala
REFRESH-INTERVAL;VALUE=DURATION:PT1H
X-Robots-Tag:noindex
X-PUBLISHED-TTL:PT1H
BEGIN:VTIMEZONE
TZID:America/New_York
BEGIN:DAYLIGHT
TZOFFSETFROM:-0500
TZOFFSETTO:-0400
TZNAME:EDT
DTSTART:20220313T070000
END:DAYLIGHT
BEGIN:STANDARD
TZOFFSETFROM:-0400
TZOFFSETTO:-0500
TZNAME:EST
DTSTART:20221106T060000
END:STANDARD
BEGIN:DAYLIGHT
TZOFFSETFROM:-0500
TZOFFSETTO:-0400
TZNAME:EDT
DTSTART:20230312T070000
END:DAYLIGHT
BEGIN:STANDARD
TZOFFSETFROM:-0400
TZOFFSETTO:-0500
TZNAME:EST
DTSTART:20231105T060000
END:STANDARD
BEGIN:DAYLIGHT
TZOFFSETFROM:-0500
TZOFFSETTO:-0400
TZNAME:EDT
DTSTART:20240310T070000
END:DAYLIGHT
BEGIN:STANDARD
TZOFFSETFROM:-0400
TZOFFSETTO:-0500
TZNAME:EST
DTSTART:20241103T060000
END:STANDARD
BEGIN:DAYLIGHT
TZOFFSETFROM:-0500
TZOFFSETTO:-0400
TZNAME:EDT
DTSTART:20250309T070000
END:DAYLIGHT
BEGIN:STANDARD
TZOFFSETFROM:-0400
TZOFFSETTO:-0500
TZNAME:EST
DTSTART:20251102T060000
END:STANDARD
BEGIN:DAYLIGHT
TZOFFSETFROM:-0500
TZOFFSETTO:-0400
TZNAME:EDT
DTSTART:20260308T070000
END:DAYLIGHT
BEGIN:STANDARD
TZOFFSETFROM:-0400
TZOFFSETTO:-0500
TZNAME:EST
DTSTART:20261101T060000
END:STANDARD
END:VTIMEZONE
BEGIN:VEVENT
DTSTART;TZID=America/New_York:20250312T100000
DTEND;TZID=America/New_York:20250312T130000
DTSTAMP:20260424T131353
CREATED:20250304T162856Z
LAST-MODIFIED:20250304T162856Z
UID:10000641-1741773600-1741784400@escenariotlx.com
SUMMARY:Feria del cerebro actividades lúdicas
DESCRIPTION:
URL:https://escenariotlx.com/evento/feria-del-cerebro-actividades-ludicas/
LOCATION:Centro de dialogo y promoción de la cultura de la paz de la CEDHT\, Av. Arquitectos no\,27. Col. Loma Bonita Tlaxcala
CATEGORIES:Activismo
ATTACH;FMTTYPE=image/png:https://escenariotlx.com/wp-content/uploads/2025/03/WhatsApp-Image-2025-03-04-at-9.55.58-AM-1.png
ORGANIZER;CN="Comisi%C3%B3n Estatal de Derechos Humanos de Tlaxcala":MAILTO:cedhtlax@prodigy.net.mx
END:VEVENT
BEGIN:VEVENT
DTSTART;TZID=America/New_York:20250307T120000
DTEND;TZID=America/New_York:20250307T130000
DTSTAMP:20260424T131353
CREATED:20250304T161652Z
LAST-MODIFIED:20250304T161849Z
UID:10000639-1741348800-1741352400@escenariotlx.com
SUMMARY:Actividades por los derechos de las mujeres
DESCRIPTION:
URL:https://escenariotlx.com/evento/actividades-por-los-derechos-de-las-mujeres/2025-03-07/
CATEGORIES:Activismo
ATTACH;FMTTYPE=image/png:https://escenariotlx.com/wp-content/uploads/2025/03/4fcbaf26-c151-45c9-9251-3f765bd07b93.png
ORGANIZER;CN="Comisi%C3%B3n Estatal de Derechos Humanos de Tlaxcala":MAILTO:cedhtlax@prodigy.net.mx
END:VEVENT
BEGIN:VEVENT
DTSTART;TZID=America/New_York:20250306T120000
DTEND;TZID=America/New_York:20250306T170000
DTSTAMP:20260424T131353
CREATED:20250304T161652Z
LAST-MODIFIED:20250304T161849Z
UID:10000638-1741262400-1741280400@escenariotlx.com
SUMMARY:Actividades por los derechos de las mujeres
DESCRIPTION:
URL:https://escenariotlx.com/evento/actividades-por-los-derechos-de-las-mujeres/2025-03-06/
CATEGORIES:Activismo
ATTACH;FMTTYPE=image/png:https://escenariotlx.com/wp-content/uploads/2025/03/4fcbaf26-c151-45c9-9251-3f765bd07b93.png
ORGANIZER;CN="Comisi%C3%B3n Estatal de Derechos Humanos de Tlaxcala":MAILTO:cedhtlax@prodigy.net.mx
END:VEVENT
BEGIN:VEVENT
DTSTART;TZID=America/New_York:20250305T120000
DTEND;TZID=America/New_York:20250305T170000
DTSTAMP:20260424T131353
CREATED:20250304T161652Z
LAST-MODIFIED:20250304T161849Z
UID:10000637-1741176000-1741194000@escenariotlx.com
SUMMARY:Actividades por los derechos de las mujeres
DESCRIPTION:
URL:https://escenariotlx.com/evento/actividades-por-los-derechos-de-las-mujeres/2025-03-05/
CATEGORIES:Activismo
ATTACH;FMTTYPE=image/png:https://escenariotlx.com/wp-content/uploads/2025/03/4fcbaf26-c151-45c9-9251-3f765bd07b93.png
ORGANIZER;CN="Comisi%C3%B3n Estatal de Derechos Humanos de Tlaxcala":MAILTO:cedhtlax@prodigy.net.mx
END:VEVENT
BEGIN:VEVENT
DTSTART;TZID=America/New_York:20250304T120000
DTEND;TZID=America/New_York:20250304T170000
DTSTAMP:20260424T131353
CREATED:20250304T161652Z
LAST-MODIFIED:20250304T161849Z
UID:10000636-1741089600-1741107600@escenariotlx.com
SUMMARY:Actividades por los derechos de las mujeres
DESCRIPTION:
URL:https://escenariotlx.com/evento/actividades-por-los-derechos-de-las-mujeres/2025-03-04/
CATEGORIES:Activismo
ATTACH;FMTTYPE=image/png:https://escenariotlx.com/wp-content/uploads/2025/03/4fcbaf26-c151-45c9-9251-3f765bd07b93.png
ORGANIZER;CN="Comisi%C3%B3n Estatal de Derechos Humanos de Tlaxcala":MAILTO:cedhtlax@prodigy.net.mx
END:VEVENT
BEGIN:VEVENT
DTSTART;TZID=America/New_York:20250304T100000
DTEND;TZID=America/New_York:20250304T110000
DTSTAMP:20260424T131353
CREATED:20250304T160900Z
LAST-MODIFIED:20250304T160900Z
UID:10000635-1741082400-1741086000@escenariotlx.com
SUMMARY:Conferencia virtual "Acompañamiento victimal y su litigio desde los feminismos"
DESCRIPTION:
URL:https://escenariotlx.com/evento/conferencia-virtual-acompanamiento-victimal-y-su-litigio-desde-los-feminismos/
CATEGORIES:Conversatorio
ATTACH;FMTTYPE=image/png:https://escenariotlx.com/wp-content/uploads/2025/03/WhatsApp-Image-2025-03-04-at-9.52.09-AM.png
ORGANIZER;CN="Comisi%C3%B3n Estatal de Derechos Humanos de Tlaxcala":MAILTO:cedhtlax@prodigy.net.mx
END:VEVENT
BEGIN:VEVENT
DTSTART;TZID=America/New_York:20250303T120000
DTEND;TZID=America/New_York:20250303T170000
DTSTAMP:20260424T131353
CREATED:20250304T161652Z
LAST-MODIFIED:20250304T161849Z
UID:10000640-1741003200-1741021200@escenariotlx.com
SUMMARY:Actividades por los derechos de las mujeres
DESCRIPTION:
URL:https://escenariotlx.com/evento/actividades-por-los-derechos-de-las-mujeres/2025-03-03/
CATEGORIES:Activismo
ATTACH;FMTTYPE=image/png:https://escenariotlx.com/wp-content/uploads/2025/03/4fcbaf26-c151-45c9-9251-3f765bd07b93.png
ORGANIZER;CN="Comisi%C3%B3n Estatal de Derechos Humanos de Tlaxcala":MAILTO:cedhtlax@prodigy.net.mx
END:VEVENT
BEGIN:VEVENT
DTSTART;TZID=America/New_York:20250208T100000
DTEND;TZID=America/New_York:20250208T233000
DTSTAMP:20260424T131353
CREATED:20250205T172902Z
LAST-MODIFIED:20250205T172902Z
UID:10000531-1739008800-1739057400@escenariotlx.com
SUMMARY:Presentación de Videojuegos Infantiles Papalotla
DESCRIPTION:La Comisión Estatal de Derechos Humanos de Tlaxcala #CEDHT invita a niñas y niños a la presentación de videojuegos hechos por niñas de Papalotla\, proyecto denominado «Nuestro primer vuelo».
URL:https://escenariotlx.com/evento/presentacion-de-videojuegos-infantiles-papalotla/
LOCATION:Centro de Papalotla
CATEGORIES:Exposición
ATTACH;FMTTYPE=image/png:https://escenariotlx.com/wp-content/uploads/2025/02/475784585_1022716883231056_7058365358077655969_n.png
ORGANIZER;CN="Comisi%C3%B3n Estatal de Derechos Humanos de Tlaxcala":MAILTO:cedhtlax@prodigy.net.mx
END:VEVENT
BEGIN:VEVENT
DTSTART;TZID=America/New_York:20230425T090000
DTEND;TZID=America/New_York:20230425T110000
DTSTAMP:20260424T131353
CREATED:20230414T154506Z
LAST-MODIFIED:20230414T154517Z
UID:10000262-1682413200-1682420400@escenariotlx.com
SUMMARY:Conversatorio Visibilidades Lésbicas y Bisexualas de Tlaxcala
DESCRIPTION:La Comisión Estatal de Derechos Humanos y La Cabilda BL\, te invitan a participar en el Conversatorio Visibilidades Lésbicas y Bisexualas de Tlaxcala. \nLa sede será en el «Centro de diálogo y promoción de la cultura de paz» en las instalaciones de la Comisión Estatal de Derechos Humanos de Tlaxcala en calle arquitectos 27\, Loma Bonita Tlaxcala. \nMartes 25 de Abril a las 9:00 hrs. \n \n\nTe puede interesar este evento: Zacatelco\, patrimonios y memorias comunitarias
URL:https://escenariotlx.com/evento/conversatorio-visibilidad-lesbica-bisexual/
LOCATION:Comisión Estatal de Derechos Humanos de Tlaxcala\, Calle arquitectos 27\, Loma Bonita Tlaxcala.\, Tlaxcala\, Tlaxcala\, México
CATEGORIES:Conversatorio
ATTACH;FMTTYPE=image/jpeg:https://escenariotlx.com/wp-content/uploads/2023/04/conversatorio.jpg
ORGANIZER;CN="Cabilda BiLencha":MAILTO:cabildabiles@gmail.com
END:VEVENT
END:VCALENDAR