BEGIN:VCALENDAR
VERSION:2.0
PRODID:-//Escenario Tlaxcala - ECPv6.15.16//NONSGML v1.0//EN
CALSCALE:GREGORIAN
METHOD:PUBLISH
X-WR-CALNAME:Escenario Tlaxcala
X-ORIGINAL-URL:https://escenariotlx.com
X-WR-CALDESC:Eventos para Escenario Tlaxcala
REFRESH-INTERVAL;VALUE=DURATION:PT1H
X-Robots-Tag:noindex
X-PUBLISHED-TTL:PT1H
BEGIN:VTIMEZONE
TZID:America/New_York
BEGIN:DAYLIGHT
TZOFFSETFROM:-0500
TZOFFSETTO:-0400
TZNAME:EDT
DTSTART:20210314T070000
END:DAYLIGHT
BEGIN:STANDARD
TZOFFSETFROM:-0400
TZOFFSETTO:-0500
TZNAME:EST
DTSTART:20211107T060000
END:STANDARD
BEGIN:DAYLIGHT
TZOFFSETFROM:-0500
TZOFFSETTO:-0400
TZNAME:EDT
DTSTART:20220313T070000
END:DAYLIGHT
BEGIN:STANDARD
TZOFFSETFROM:-0400
TZOFFSETTO:-0500
TZNAME:EST
DTSTART:20221106T060000
END:STANDARD
BEGIN:DAYLIGHT
TZOFFSETFROM:-0500
TZOFFSETTO:-0400
TZNAME:EDT
DTSTART:20230312T070000
END:DAYLIGHT
BEGIN:STANDARD
TZOFFSETFROM:-0400
TZOFFSETTO:-0500
TZNAME:EST
DTSTART:20231105T060000
END:STANDARD
END:VTIMEZONE
BEGIN:VEVENT
DTSTART;TZID=America/New_York:20221204T100000
DTEND;TZID=America/New_York:20221204T180000
DTSTAMP:20260420T050535
CREATED:20221201T230013Z
LAST-MODIFIED:20221201T230013Z
UID:10000203-1670148000-1670176800@escenariotlx.com
SUMMARY:Inauguración del Mercado Alternativo en Tepetitla de Lardizábal
DESCRIPTION:Ante la falta de espacios para nuestros productores del campo y artesanos\, una familia de prosumidores decidió ofrecer y entregar a su gente lugares para ofertar sus artículos. Una iniciativa local que fomente el eco-turismo\, la producción agrícola regional\, los productos artesanales u orgánicos de Tlaxcala y la economía justa y solidaria. \nTrabajado junto a la comunidad y con aportes voluntarios de personas preocupadas por el desarrollo de proyectos autosustentables\, de riqueza cultural y patrimonio humanitario se reconoce nuestro proyecto inaugurando el Primer Mercado Alternativo Municipal del oeste Tlaxcalteca.
URL:https://escenariotlx.com/evento/inauguracion-mercado-alternativo/
LOCATION:Camino Real a San Carlos esq. Avenida Revolución S/N\, Tepetitla de Lardizábal.\, Tlaxcala\, México
CATEGORIES:Ecología,Exposición,Festivales
ATTACH;FMTTYPE=image/jpeg:https://escenariotlx.com/wp-content/uploads/2022/12/317489819_550227947113366_563656322467421439_n.jpg
END:VEVENT
END:VCALENDAR