BEGIN:VCALENDAR
VERSION:2.0
PRODID:-//Escenario Tlaxcala - ECPv6.15.16//NONSGML v1.0//EN
CALSCALE:GREGORIAN
METHOD:PUBLISH
X-WR-CALNAME:Escenario Tlaxcala
X-ORIGINAL-URL:https://escenariotlx.com
X-WR-CALDESC:Eventos para Escenario Tlaxcala
REFRESH-INTERVAL;VALUE=DURATION:PT1H
X-Robots-Tag:noindex
X-PUBLISHED-TTL:PT1H
BEGIN:VTIMEZONE
TZID:America/New_York
BEGIN:DAYLIGHT
TZOFFSETFROM:-0500
TZOFFSETTO:-0400
TZNAME:EDT
DTSTART:20250309T070000
END:DAYLIGHT
BEGIN:STANDARD
TZOFFSETFROM:-0400
TZOFFSETTO:-0500
TZNAME:EST
DTSTART:20251102T060000
END:STANDARD
BEGIN:DAYLIGHT
TZOFFSETFROM:-0500
TZOFFSETTO:-0400
TZNAME:EDT
DTSTART:20260308T070000
END:DAYLIGHT
BEGIN:STANDARD
TZOFFSETFROM:-0400
TZOFFSETTO:-0500
TZNAME:EST
DTSTART:20261101T060000
END:STANDARD
BEGIN:DAYLIGHT
TZOFFSETFROM:-0500
TZOFFSETTO:-0400
TZNAME:EDT
DTSTART:20270314T070000
END:DAYLIGHT
BEGIN:STANDARD
TZOFFSETFROM:-0400
TZOFFSETTO:-0500
TZNAME:EST
DTSTART:20271107T060000
END:STANDARD
END:VTIMEZONE
BEGIN:VEVENT
DTSTART;TZID=America/New_York:20260327T130000
DTEND;TZID=America/New_York:20260328T230000
DTSTAMP:20260421T174150
CREATED:20260302T171216Z
LAST-MODIFIED:20260302T171216Z
UID:10002524-1774616400-1774738800@escenariotlx.com
SUMMARY:El Auténtico Festival de la Cerveza Tlaxcala 2026
DESCRIPTION:La espera terminó y la Plaza de Toros Jorge Aguilar «El Ranchero» se prepara para transformarse en el epicentro de la cultura líquida. Los días 27 y 28 de marzo\, este emblemático recinto recibirá a los mejores expositores de la región en una celebración que promete ser histórica. \nSerá el punto de encuentro ideal para descubrir nuevas propuestas artesanales\, disfrutar de música en vivo y sumergirse en un ambiente lleno de sorpresas. Si eres amante de una buena malta y el lúpulo\, esta es la cita obligada del calendario. \nTodo lo que necesitas saber\n\n\nSede: Plaza de Toros Jorge Aguilar “El Ranchero”. \n\n\nFechas: 27 y 28 de marzo de 2026. \n\n\nActividades: Expositores regionales\, bandas en vivo y demás sorpresas.
URL:https://escenariotlx.com/evento/el-autentico-festival-de-la-cerveza-tlaxcala-2026/
LOCATION:Plaza de Toros Jorge Aguilar «El Ranchero»
CATEGORIES:Festivales
ATTACH;FMTTYPE=image/jpeg:https://escenariotlx.com/wp-content/uploads/2026/03/WhatsApp-Image-2026-03-02-at-9.34.41-AM.jpeg
END:VEVENT
END:VCALENDAR