BEGIN:VCALENDAR
VERSION:2.0
PRODID:-//Escenario Tlaxcala - ECPv6.15.16//NONSGML v1.0//EN
CALSCALE:GREGORIAN
METHOD:PUBLISH
X-ORIGINAL-URL:https://escenariotlx.com
X-WR-CALDESC:Eventos para Escenario Tlaxcala
REFRESH-INTERVAL;VALUE=DURATION:PT1H
X-Robots-Tag:noindex
X-PUBLISHED-TTL:PT1H
BEGIN:VTIMEZONE
TZID:America/New_York
BEGIN:DAYLIGHT
TZOFFSETFROM:-0500
TZOFFSETTO:-0400
TZNAME:EDT
DTSTART:20210314T070000
END:DAYLIGHT
BEGIN:STANDARD
TZOFFSETFROM:-0400
TZOFFSETTO:-0500
TZNAME:EST
DTSTART:20211107T060000
END:STANDARD
BEGIN:DAYLIGHT
TZOFFSETFROM:-0500
TZOFFSETTO:-0400
TZNAME:EDT
DTSTART:20220313T070000
END:DAYLIGHT
BEGIN:STANDARD
TZOFFSETFROM:-0400
TZOFFSETTO:-0500
TZNAME:EST
DTSTART:20221106T060000
END:STANDARD
BEGIN:DAYLIGHT
TZOFFSETFROM:-0500
TZOFFSETTO:-0400
TZNAME:EDT
DTSTART:20230312T070000
END:DAYLIGHT
BEGIN:STANDARD
TZOFFSETFROM:-0400
TZOFFSETTO:-0500
TZNAME:EST
DTSTART:20231105T060000
END:STANDARD
BEGIN:DAYLIGHT
TZOFFSETFROM:-0500
TZOFFSETTO:-0400
TZNAME:EDT
DTSTART:20240310T070000
END:DAYLIGHT
BEGIN:STANDARD
TZOFFSETFROM:-0400
TZOFFSETTO:-0500
TZNAME:EST
DTSTART:20241103T060000
END:STANDARD
BEGIN:DAYLIGHT
TZOFFSETFROM:-0500
TZOFFSETTO:-0400
TZNAME:EDT
DTSTART:20250309T070000
END:DAYLIGHT
BEGIN:STANDARD
TZOFFSETFROM:-0400
TZOFFSETTO:-0500
TZNAME:EST
DTSTART:20251102T060000
END:STANDARD
BEGIN:DAYLIGHT
TZOFFSETFROM:-0500
TZOFFSETTO:-0400
TZNAME:EDT
DTSTART:20260308T070000
END:DAYLIGHT
BEGIN:STANDARD
TZOFFSETFROM:-0400
TZOFFSETTO:-0500
TZNAME:EST
DTSTART:20261101T060000
END:STANDARD
END:VTIMEZONE
BEGIN:VEVENT
DTSTART;TZID=America/New_York:20251027T180000
DTEND;TZID=America/New_York:20251027T203000
DTSTAMP:20260420T201235
CREATED:20250929T190527Z
LAST-MODIFIED:20250929T190527Z
UID:10002322-1761588000-1761597000@escenariotlx.com
SUMMARY:Zal Sissokho en el Festival Cervantino de Tlaxcala
DESCRIPTION:La Secretaría de Cultura\, el Gobierno de Tlaxcala y la Secretaría de Cultura del Estado conmemoran los 500 años de la fundación de la Ciudad de Tlaxcala\, siendo parte del Festival Internacional Cervantino Edición 53 Colombia; el artista\, Zal Sissokho de Senegal\, Canadá\, y Kora Flamenca presentará un diálogo musical entre África y Europa que une continentes en un ritual de fusión. \nEntrada libre.
URL:https://escenariotlx.com/evento/zal-sissokho-en-el-festival-cervantino-de-tlaxcala/
LOCATION:UATx: Centro Cultural Universitario\, La Loma Xicohtencatl\, Tlaxcala\, Tlaxcala\, 90070\, México
CATEGORIES:Conciertos
ATTACH;FMTTYPE=image/jpeg:https://escenariotlx.com/wp-content/uploads/2025/09/557409385_1241591978009881_7923701733855761543_n.jpg
END:VEVENT
BEGIN:VEVENT
DTSTART;TZID=America/New_York:20251015T113000
DTEND;TZID=America/New_York:20251015T140000
DTSTAMP:20260420T201235
CREATED:20251015T163136Z
LAST-MODIFIED:20251015T163136Z
UID:10002327-1760527800-1760536800@escenariotlx.com
SUMMARY:CLAUSURA DE LOS 500 AÑOS DE TLAXCALA
DESCRIPTION:El miércoles 15 de octubre concluyen las actividades referentes al festejo de los 500 años de la fundación de Tlaxcala. \nLa actividad central será la inauguración de la capsula del tiempo a las 12 de la tarde frente a la antigua hasta bandera. \n 
URL:https://escenariotlx.com/evento/clausura-de-los-500-anos-de-tlaxcala/
CATEGORIES:Festivales
ATTACH;FMTTYPE=image/jpeg:https://escenariotlx.com/wp-content/uploads/2025/10/images.jpg
END:VEVENT
BEGIN:VEVENT
DTSTART;TZID=America/New_York:20251013T130000
DTEND;TZID=America/New_York:20251013T153000
DTSTAMP:20260420T201235
CREATED:20250929T184255Z
LAST-MODIFIED:20250929T184255Z
UID:10002319-1760360400-1760369400@escenariotlx.com
SUMMARY:Proyección La Malquerida (1949)
DESCRIPTION:Como parte de la celebración de los 500 años de Tlaxcala\, se llevará a cabo el Ciclo de cine Tlaxcala a través del Lente en la Pinacoteca del Estado\, el próximo 13 de octubre 1:00 pm proyectarán La Malquerida (1949).
URL:https://escenariotlx.com/evento/proyeccion-la-malquerida-1949/
LOCATION:Pinacoteca del Estado\, Av. Guerrero #15\, Tlaxcala\, Tlaxcala\, México
CATEGORIES:Cine
ATTACH;FMTTYPE=image/jpeg:https://escenariotlx.com/wp-content/uploads/2025/09/La_malquerida-633360910-mmed.jpg
END:VEVENT
BEGIN:VEVENT
DTSTART;TZID=America/New_York:20251011T130000
DTEND;TZID=America/New_York:20251011T150000
DTSTAMP:20260420T201235
CREATED:20250929T183818Z
LAST-MODIFIED:20250929T183818Z
UID:10002317-1760187600-1760194800@escenariotlx.com
SUMMARY:Proyección Modelo Antiguo
DESCRIPTION:Como parte de la celebración de los 500 años de Tlaxcala\, se llevará a cabo el Ciclo de cine Tlaxcala a través del Lente en la Pinacoteca del Estado\, el próximo 11 de octubre 1:00 pm proyectarán Modelo Antiguo. \n 
URL:https://escenariotlx.com/evento/proyeccion-modelo-antiguo/
LOCATION:Pinacoteca del Estado\, Av. Guerrero #15\, Tlaxcala\, Tlaxcala\, México
CATEGORIES:Cine
ATTACH;FMTTYPE=image/jpeg:https://escenariotlx.com/wp-content/uploads/2025/09/MV5BNDQxNTBjYTQtMWZjNC00YTFlLWFjZjUtYzEyZjcxNjFjMTIxXkEyXkFqcGc@._V1_FMjpg_UX1000_.jpg
END:VEVENT
BEGIN:VEVENT
DTSTART;TZID=America/New_York:20251009T180000
DTEND;TZID=America/New_York:20251009T203000
DTSTAMP:20260420T201235
CREATED:20250929T185134Z
LAST-MODIFIED:20250929T185134Z
UID:10002320-1760032800-1760041800@escenariotlx.com
SUMMARY:Festival Internacional Cervantino Edición 53 Colombia
DESCRIPTION:La Secretaría de Cultura\, el Gobierno de Tlaxcala y la Secretaría de Cultura del Estado conmemoran los 500 años de la fundación de la Ciudad de Tlaxcala\, siendo parte del Festival Internacional Cervantino Edición 53 Colombia; Victoria Sur rendirá homenaje a Toña Negra\, y la entrada será libre.
URL:https://escenariotlx.com/evento/festival-internacional-cervantino-edicion-53-colombia/
LOCATION:UATx: Centro Cultural Universitario\, La Loma Xicohtencatl\, Tlaxcala\, Tlaxcala\, 90070\, México
CATEGORIES:Conciertos
ATTACH;FMTTYPE=image/jpeg:https://escenariotlx.com/wp-content/uploads/2025/09/557786320_1241591991343213_4695055112619923477_n.jpg
END:VEVENT
BEGIN:VEVENT
DTSTART;TZID=America/New_York:20251009T130000
DTEND;TZID=America/New_York:20251009T153000
DTSTAMP:20260420T201235
CREATED:20250929T183447Z
LAST-MODIFIED:20250929T183447Z
UID:10002316-1760014800-1760023800@escenariotlx.com
SUMMARY:Proyección Documental 499 (2020)
DESCRIPTION:Como parte de la celebración de los 500 años de Tlaxcala\, se llevará a cabo el Ciclo de cine Tlaxcala a través del Lente en la Pinacoteca del Estado\, el próximo 9 de octubre 1:00 pm proyectarán Documental 499 (2020).
URL:https://escenariotlx.com/evento/proyeccion-documental-499-2020/
LOCATION:Pinacoteca del Estado\, Av. Guerrero #15\, Tlaxcala\, Tlaxcala\, México
CATEGORIES:Cine
ATTACH;FMTTYPE=image/jpeg:https://escenariotlx.com/wp-content/uploads/2025/09/images-1.jpg
END:VEVENT
BEGIN:VEVENT
DTSTART;TZID=America/New_York:20251006T130000
DTEND;TZID=America/New_York:20251006T150000
DTSTAMP:20260420T201235
CREATED:20250929T183039Z
LAST-MODIFIED:20250929T183039Z
UID:10002314-1759755600-1759762800@escenariotlx.com
SUMMARY:Proyección de Un hombre entre dios y el diablo
DESCRIPTION:Como parte de la celebración de los 500 años de Tlaxcala\, se llevará a cabo el Ciclo de cine Tlaxcala a través del Lente en la Pinacoteca del Estado\, el próximo 6 de octubre 1:00 pm proyectarán Un hombre entre dios y el Diablo. \n 
URL:https://escenariotlx.com/evento/proyeccion-de-un-hombre-entre-dios-y-el-diablo/
LOCATION:Pinacoteca del Estado\, Av. Guerrero #15\, Tlaxcala\, Tlaxcala\, México
CATEGORIES:Cine
ATTACH;FMTTYPE=image/png:https://escenariotlx.com/wp-content/uploads/2025/09/image003.png
END:VEVENT
BEGIN:VEVENT
DTSTART;TZID=America/New_York:20251005T130000
DTEND;TZID=America/New_York:20251005T150000
DTSTAMP:20260420T201235
CREATED:20250929T180437Z
LAST-MODIFIED:20250929T180437Z
UID:10002313-1759669200-1759676400@escenariotlx.com
SUMMARY:Proyección Veneno para las hadas  (1986)
DESCRIPTION:Por su parte\, habrá proyecciones como parte del Ciclo de cine Tlaxcala a través del lente en la Pinacoteca del Estado\, el próximo 5 de octubre 1:00 pm proyectarán Veneno para las hadas (1986). \n 
URL:https://escenariotlx.com/evento/proyeccion-veneno-para-las-hadas-1986/
LOCATION:Pinacoteca del Estado\, Av. Guerrero #15\, Tlaxcala\, Tlaxcala\, México
CATEGORIES:Cine
ATTACH;FMTTYPE=image/jpeg:https://escenariotlx.com/wp-content/uploads/2025/09/Feria-de-Tlaxcala-2025.jpg
END:VEVENT
BEGIN:VEVENT
DTSTART;TZID=America/New_York:20251004T130000
DTEND;TZID=America/New_York:20251004T143000
DTSTAMP:20260420T201235
CREATED:20250929T175442Z
LAST-MODIFIED:20250929T175442Z
UID:10002312-1759582800-1759588200@escenariotlx.com
SUMMARY:Proyección La Escondida (1956)
DESCRIPTION:Tras los 500 años de Tlaxcala\, habrá proyecciones que formarán parte del Ciclo de cine Tlaxcala a través del lente\, en la Pinacoteca del Estado. La Escondida (1956)\, se proyectará el 4 de octubre a las 13:00.
URL:https://escenariotlx.com/evento/proyeccion-la-escondida-1956/
CATEGORIES:Cine
ATTACH;FMTTYPE=image/jpeg:https://escenariotlx.com/wp-content/uploads/2025/09/La_escondida-901946250-mmed.jpg
END:VEVENT
BEGIN:VEVENT
DTSTART;TZID=America/New_York:20230729T100000
DTEND;TZID=America/New_York:20230827T170000
DTSTAMP:20260420T201235
CREATED:20230710T184743Z
LAST-MODIFIED:20230710T184743Z
UID:10000404-1690624800-1693155600@escenariotlx.com
SUMMARY:"Verano Acuático" - Curso de Verano
DESCRIPTION:¿Buscas una opción de talleres o cursos en este verano\, en Tlaxcala capital? \nDel 29 de julio al 27 de agosto se realizará el “Primer Verano Acuático 2023” en el recinto ferial de Tlaxcala\, un espacio pensado en la diversión y sano esparcimiento de los más pequeños de la casa. \nSe contará con inflables\, albercas gigantes\, circo\, gotcha\, talleres artesanales y zona comercial\, en un horario de 10:00 a 17:00 horas\, con acceso totalmente gratuito para todas las familias tlaxcaltecas. \nParticiparán diversas instituciones\, a fin de que su estancia en el Verano Acuático sea segura\, y no se presenten incidentes que pongan en riesgo la salud de los asistentes. \nOrganiza Gobierno del Estado de Tlaxcala \n \n\nTe puede interesar este evento: Curso de verano “Taller de títeres”
URL:https://escenariotlx.com/evento/verano-acuatico-curso-de-verano-tlaxcala/
LOCATION:Recinto Feria Tlaxcala\, Avenida Tlahuicole\, Adolfo López Mateos\, Tlaxcala\, Tlaxcala\, 90040\, México
CATEGORIES:Cursos
ATTACH;FMTTYPE=image/jpeg:https://escenariotlx.com/wp-content/uploads/2023/07/verano.jpg
END:VEVENT
BEGIN:VEVENT
DTSTART;TZID=America/New_York:20230728T180000
DTEND;TZID=America/New_York:20230728T200000
DTSTAMP:20260420T201235
CREATED:20230707T171302Z
LAST-MODIFIED:20230707T171302Z
UID:10000402-1690567200-1690574400@escenariotlx.com
SUMMARY:1era. edición de "Noches de la Memoria 2023"
DESCRIPTION:El Museo de la Memoria Tlaxcala te espera en la 1era. edición de «Noches de la Memoria 2023» con el concierto en violín “Mi música huasteca” de Santiago Zoan Vázquez Fernández. \nSantiago es alumno del maestro Homero Gallardo Mora de la cátedra de violín TLAUI-CEFOM. \nSerá el 28 de julio 2023 a las 18:00 hrs. \nEntrada libre. \n \n\nTe puede interesar este evento: Curso de verano “Taller de títeres”
URL:https://escenariotlx.com/evento/1era-edicion-de-noches-de-la-memoria-2023/
LOCATION:Museo de la Memoria
CATEGORIES:Conciertos
ATTACH;FMTTYPE=image/jpeg:https://escenariotlx.com/wp-content/uploads/2023/07/noches.jpg
END:VEVENT
BEGIN:VEVENT
DTSTART;TZID=America/New_York:20230526T203000
DTEND;TZID=America/New_York:20230526T223000
DTSTAMP:20260420T201235
CREATED:20230509T171926Z
LAST-MODIFIED:20230509T171926Z
UID:10000307-1685133000-1685140200@escenariotlx.com
SUMMARY:El festival de música "Raíz México" traé música latinoamericana
DESCRIPTION:El Festival Música «Raíz México» continúa su recorrido por Tlaxcala con propuestas artísticas diversas. \nLos conciertos son totalmente gratuitos. \nEl 26 de Mayo en Chiautempan habrá música electrónica con Latinoamérica Sin Fronteras. \nLo podrás disfrutar del concierto en el parque Juárez de Santa Ana Chiautempan a las 20:30 hrs. \nInvitan Gobierno del Estado de Tlaxcala y Secretaría de Cultura de Tlaxcala. \n \n\nTe puede inetersar este evento: El Festival de música «Raíz México» traé música electrónica en Chiautempan
URL:https://escenariotlx.com/evento/festival-musica-raiz-mexico-latino/
LOCATION:Parque Juárez de Santa Ana Chiautempan\, Hidalgo Norte colonia San Onofre\, Chiautemoan\, Tlaxcala\, 90800\, México
CATEGORIES:Conciertos,Festivales
ATTACH;FMTTYPE=image/jpeg:https://escenariotlx.com/wp-content/uploads/2023/05/latinoamerica.jpg
END:VEVENT
BEGIN:VEVENT
DTSTART;TZID=America/New_York:20230526T183000
DTEND;TZID=America/New_York:20230526T203000
DTSTAMP:20260420T201235
CREATED:20230509T175637Z
LAST-MODIFIED:20230509T175637Z
UID:10000308-1685125800-1685133000@escenariotlx.com
SUMMARY:El festival de música "Raíz México" traé música popular de salterios
DESCRIPTION:El Festival Música «Raíz México» continúa su recorrido por Tlaxcala con propuestas artísticas diversas. \nLos conciertos son totalmente gratuitos. \nEl 26 de Mayo en Chiautempan habrá música de salterios con Recordar es Vivir. \nLo podrás disfrutar del concierto en el parque Juárez de Santa Ana Chiautempan a las 18:30 hrs. \nInvitan Gobierno del Estado de Tlaxcala y Secretaría de Cultura de Tlaxcala. \n \n\nTe puede interesar este evento: El festival de música «Raíz México» traé música latinoamericana
URL:https://escenariotlx.com/evento/musica-raiz-mexico-trae-musica-salterios/
LOCATION:Parque Juárez de Santa Ana Chiautempan\, Hidalgo Norte colonia San Onofre\, Chiautemoan\, Tlaxcala\, 90800\, México
CATEGORIES:Conciertos,Festivales
ATTACH;FMTTYPE=image/jpeg:https://escenariotlx.com/wp-content/uploads/2023/05/saleterios.jpg
END:VEVENT
BEGIN:VEVENT
DTSTART;TZID=America/New_York:20230526T163000
DTEND;TZID=America/New_York:20230526T183000
DTSTAMP:20260420T201235
CREATED:20230509T170549Z
LAST-MODIFIED:20230509T170549Z
UID:10000306-1685118600-1685125800@escenariotlx.com
SUMMARY:El Festival de música "Raíz México" traé música electrónica en Chiautempan
DESCRIPTION:El Festival Música «Raíz México» continúa su recorrido por Tlaxcala con propuestas artísticas diversas. \nLos conciertos son totalmente gratuitos. \nEl 26 de Mayo en Chiautempan habrá música electrónica con Minimal Etno. \nLo podrás disfrutar del concierto en el parque Juárez de Santa Ana Chiautempan a las 16:30 hrs. \nInvitan Gobierno del Estado de Tlaxcala y Secretaría de Cultura de Tlaxcala. \n \n\nTe puede interesar este evento: Participa en el Campeonato Nacional Dodgeball Apizaco 2023
URL:https://escenariotlx.com/evento/festival-musica-raiz-mexico-electronica/
LOCATION:Parque Juárez de Santa Ana Chiautempan\, Hidalgo Norte colonia San Onofre\, Chiautemoan\, Tlaxcala\, 90800\, México
CATEGORIES:Conciertos,Festivales
ATTACH;FMTTYPE=image/jpeg:https://escenariotlx.com/wp-content/uploads/2023/05/electronica.jpg
END:VEVENT
BEGIN:VEVENT
DTSTART;TZID=America/New_York:20230514T180000
DTEND;TZID=America/New_York:20230514T200000
DTSTAMP:20260420T201235
CREATED:20230509T164935Z
LAST-MODIFIED:20230509T164935Z
UID:10000305-1684087200-1684094400@escenariotlx.com
SUMMARY:Festival de música “Raíz México” Hip hop experimental con Neo Sampleo
DESCRIPTION:El Festival Música «Raíz México» continúa su recorrido por Tlaxcala con propuestas artísticas diversas. \nLos conciertos son totalmente gratuitos. \nEl 14 de Mayo en Teolocholco habrá Hip hop experimental con Neo Sampleo. \nPodrás disfrutar del concierto en la plaza principal de Teolocholco a las 18:00 hrs. \nInvitan Gobierno del Estado de Tlaxcala y Secretaría de Cultura de Tlaxcala. \n \n\nTe puede interesar este evento: Presentación del libro «Jódete Cáncer» de Sandra Monroy
URL:https://escenariotlx.com/evento/festival-musica-hip-hop-experimental/
LOCATION:Plaza principal de Teolocholco\, Teolocholco\, Tlaxcala\, México
CATEGORIES:Conciertos,Festivales
ATTACH;FMTTYPE=image/jpeg:https://escenariotlx.com/wp-content/uploads/2023/05/hiphop-alternativo.jpg
END:VEVENT
BEGIN:VEVENT
DTSTART;TZID=America/New_York:20230514T160000
DTEND;TZID=America/New_York:20230514T180000
DTSTAMP:20260420T201235
CREATED:20230509T163645Z
LAST-MODIFIED:20230509T165037Z
UID:10000304-1684080000-1684087200@escenariotlx.com
SUMMARY:El festival de música "Raíz México" traé Rock en Náhuatl en Teolocholco
DESCRIPTION:El Festival de Música «Raíz México» continúa su recorrido por Tlaxcala con propuestas artísticas diversas. \nLos conciertos son totalmente gratuitos. \nEl 14 de Mayo en Teolocholco habrá Rock en Náhuatl con “Rockercoatl\, Xochitlajtoli\, conociendo la palabra florid”. \nPodrás disfrutar del concierto en la plaza principal de Teolocholco a las 16:00 hrs. \nInvitan Gobierno del Estado de Tlaxcala y Secretaría de Cultura de Tlaxcala \n \n\nTe puede interesar este evento: Danza Flamenca titulada «Mujer\, Sororidad y Danza»
URL:https://escenariotlx.com/evento/raiz-mexico-rock-en-nahuatl-en-teolocholco/
LOCATION:Plaza principal de Teolocholco\, Teolocholco\, Tlaxcala\, México
CATEGORIES:Conciertos,Festivales
ATTACH;FMTTYPE=image/jpeg:https://escenariotlx.com/wp-content/uploads/2023/05/Rock-en-Nahuatl.jpg
END:VEVENT
BEGIN:VEVENT
DTSTART;TZID=America/New_York:20230128T160000
DTEND;TZID=America/New_York:20230218T200000
DTSTAMP:20260420T201235
CREATED:20230130T164548Z
LAST-MODIFIED:20230130T164548Z
UID:10000222-1674921600-1676750400@escenariotlx.com
SUMMARY:Carnaval Tlaxcala 2023
DESCRIPTION:¡Ven y disfruta del #CarnavalTlaxcala 2023 en el Centro Expositor!\n\n\n\nConoce las actividades que se tienen programadas del 29  de enero al 18 de febrero. ¡Te esperamos!
URL:https://escenariotlx.com/evento/carnaval-tlaxcala-2023/
LOCATION:Centro Expositor\, Av. Lago del Niño 1\, Adolfo López Mateos\, tlaxcala\, Tlaxcala\, 90040\, México
CATEGORIES:Festivales
ATTACH;FMTTYPE=image/jpeg:https://escenariotlx.com/wp-content/uploads/2023/01/327629843_2107458076311520_7688689317417811486_n.jpg
END:VEVENT
BEGIN:VEVENT
DTSTART;TZID=America/New_York:20220911T170000
DTEND;TZID=America/New_York:20220911T220000
DTSTAMP:20260420T201235
CREATED:20220910T192517Z
LAST-MODIFIED:20220910T192517Z
UID:10000184-1662915600-1662933600@escenariotlx.com
SUMMARY:Segunda Muestra de Vestidos y Atuendos de Damas Charras
DESCRIPTION:En conjunto a la Secretaria de Cultura la Asociación de Charros Isidro Candia Galván\, invita al desfile de atuendos y vestimentas de Damas Charras. \nEn compañía de la Reina de Asociación de Charras\, Begoña II\, más de treinta representantes de la charrería estarán presentando emblemáticos atuendos. \nhttps://www.facebook.com/tlaxcalatelevision/videos/475445301115787/
URL:https://escenariotlx.com/evento/segunda-muestra-de-vestidos-y-atuendos-de-damas-charras/
LOCATION:Teatro Xicohténcatl
CATEGORIES:Festivales
ATTACH;FMTTYPE=image/png:https://escenariotlx.com/wp-content/uploads/2022/09/image-2.png
END:VEVENT
BEGIN:VEVENT
DTSTART;TZID=America/New_York:20220812T190000
DTEND;TZID=America/New_York:20220812T190000
DTSTAMP:20260420T201235
CREATED:20220811T165859Z
LAST-MODIFIED:20220811T165940Z
UID:10000105-1660330800-1660330800@escenariotlx.com
SUMMARY:Cuatro grandes de la plástica en la frontera de la Antigua Tlaxcallan
DESCRIPTION:Te invitamos a la inauguración de la exposición «Cuatro grandes de la plástica en la frontera de la Antigua Tlaxcallan». \n\nArmando Ahuatzi\nDesiderio H. Xochitiotzin.\nTeódulo Rómulo\nHermenegildo Sosa\n\nRecuerda portar cubrebocas durante tu estancia. #EnCulturaUnaNuevaHistoria
URL:https://escenariotlx.com/evento/cuatro-grandes-de-la-plastica-en-la-frontera-de-la-antigua-tlaxcallan/
LOCATION:Centro Cultural Huamantla\, Parque Juárez 14\, Centro.\, Huamantla\, Tlaxcala\, 90500
CATEGORIES:Activismo,Museos
ATTACH;FMTTYPE=image/jpeg:https://escenariotlx.com/wp-content/uploads/2022/08/WhatsApp-Image-2022-08-10-at-9.41.28-AM.jpeg
END:VEVENT
END:VCALENDAR