BEGIN:VCALENDAR
VERSION:2.0
PRODID:-//Escenario Tlaxcala - ECPv6.15.16//NONSGML v1.0//EN
CALSCALE:GREGORIAN
METHOD:PUBLISH
X-ORIGINAL-URL:https://escenariotlx.com
X-WR-CALDESC:Eventos para Escenario Tlaxcala
REFRESH-INTERVAL;VALUE=DURATION:PT1H
X-Robots-Tag:noindex
X-PUBLISHED-TTL:PT1H
BEGIN:VTIMEZONE
TZID:America/New_York
BEGIN:DAYLIGHT
TZOFFSETFROM:-0500
TZOFFSETTO:-0400
TZNAME:EDT
DTSTART:20210314T070000
END:DAYLIGHT
BEGIN:STANDARD
TZOFFSETFROM:-0400
TZOFFSETTO:-0500
TZNAME:EST
DTSTART:20211107T060000
END:STANDARD
BEGIN:DAYLIGHT
TZOFFSETFROM:-0500
TZOFFSETTO:-0400
TZNAME:EDT
DTSTART:20220313T070000
END:DAYLIGHT
BEGIN:STANDARD
TZOFFSETFROM:-0400
TZOFFSETTO:-0500
TZNAME:EST
DTSTART:20221106T060000
END:STANDARD
BEGIN:DAYLIGHT
TZOFFSETFROM:-0500
TZOFFSETTO:-0400
TZNAME:EDT
DTSTART:20230312T070000
END:DAYLIGHT
BEGIN:STANDARD
TZOFFSETFROM:-0400
TZOFFSETTO:-0500
TZNAME:EST
DTSTART:20231105T060000
END:STANDARD
END:VTIMEZONE
BEGIN:VEVENT
DTSTART;TZID=America/New_York:20220922T170000
DTEND;TZID=America/New_York:20220922T200000
DTSTAMP:20260424T230220
CREATED:20220922T171536Z
LAST-MODIFIED:20220922T172043Z
UID:10000188-1663866000-1663876800@escenariotlx.com
SUMMARY:Vuelo de letras. Recital de escritoras de Tlaxcala
DESCRIPTION:La Asociación de Escritores de México les invita para que se conecten a través de su plataforma al evento\, “Vuelo de letras. Recital de escritoras de Tlaxcala”; el jueves 22 de septiembre a las 17 horas. \nEN VIVO DESDE LA MULTIPLATAFORMA  \nRevisen el cartel de lujo que tendremos. ¡No se lo pierdan! \nEstos son los links por los que se podrán unir a este evento: \nFACEBOOK:https://www.facebook.com/…/www…/elarcoylaflechaeditores TWITTER:https://twitter.com/AsociaciondeEs2 INSTAGRAM:https://www.instagram.com/asociaciondeescritoresdemexico/\nYOUTUBE:https://www.youtube.com/channel/UCbztnhVmh5AkiOdzonaR0Nw \nLa Asociación de Escritores de México A.C. surge en el Centro de la Ciudad de México entre agosto y septiembre de 1964 en la editorial de Don Bartolóme Costa-Amic. Esta iniciativa estaba directamente ligada a los libros y al interés de crear nuevos espacios para la difusión e impulso de la literatura en México. En enero de 1965 la AEMAC obtiene su registro y desde entonces a la fecha han desfilado un sin número de escritores y escritoras como asociados e integrantes del Comité Directivo Nacional\, entre los que destacan: Carlos Pellicer\, Juan José Arreola\, Álvaro Mutis\, Agusto Monterroso\, Ramón Xirau\, María Luisa Ocampo y Margarita Micelena\, por citar algunos.
URL:https://escenariotlx.com/evento/vuelo-de-letras-recital-de-escritoras-de-tlaxcala/
LOCATION:Plataforma digital
CATEGORIES:Exposición,Libros
ATTACH;FMTTYPE=image/png:https://escenariotlx.com/wp-content/uploads/2022/09/image.png
END:VEVENT
END:VCALENDAR