BEGIN:VCALENDAR
VERSION:2.0
PRODID:-//Escenario Tlaxcala - ECPv6.15.16//NONSGML v1.0//EN
CALSCALE:GREGORIAN
METHOD:PUBLISH
X-WR-CALNAME:Escenario Tlaxcala
X-ORIGINAL-URL:https://escenariotlx.com
X-WR-CALDESC:Eventos para Escenario Tlaxcala
REFRESH-INTERVAL;VALUE=DURATION:PT1H
X-Robots-Tag:noindex
X-PUBLISHED-TTL:PT1H
BEGIN:VTIMEZONE
TZID:America/New_York
BEGIN:DAYLIGHT
TZOFFSETFROM:-0500
TZOFFSETTO:-0400
TZNAME:EDT
DTSTART:20240310T070000
END:DAYLIGHT
BEGIN:STANDARD
TZOFFSETFROM:-0400
TZOFFSETTO:-0500
TZNAME:EST
DTSTART:20241103T060000
END:STANDARD
BEGIN:DAYLIGHT
TZOFFSETFROM:-0500
TZOFFSETTO:-0400
TZNAME:EDT
DTSTART:20250309T070000
END:DAYLIGHT
BEGIN:STANDARD
TZOFFSETFROM:-0400
TZOFFSETTO:-0500
TZNAME:EST
DTSTART:20251102T060000
END:STANDARD
BEGIN:DAYLIGHT
TZOFFSETFROM:-0500
TZOFFSETTO:-0400
TZNAME:EDT
DTSTART:20260308T070000
END:DAYLIGHT
BEGIN:STANDARD
TZOFFSETFROM:-0400
TZOFFSETTO:-0500
TZNAME:EST
DTSTART:20261101T060000
END:STANDARD
END:VTIMEZONE
BEGIN:VEVENT
DTSTART;TZID=America/New_York:20251103T170000
DTEND;TZID=America/New_York:20251103T183000
DTSTAMP:20260419T174500
CREATED:20251103T155619Z
LAST-MODIFIED:20251103T160246Z
UID:10002379-1762189200-1762194600@escenariotlx.com
SUMMARY:Resilientes Teatro presentará la obra "Nuestra Historia"
DESCRIPTION:El día 3 de noviembre «Resilientes Teatro\, compañía infantil y juvenil del Centro de las Artes Tlaxcala» presentará en el Recinto Ferial de Tlaxcala la obra de teatro «Nuestra Historia» bajo la dirección de Ana Laura Lima Meneses en la Plaza del Mariachi. \nSinopsis: Una puesta de escena que nos transporta y nos conecta con el pasado de los antiguos Tlaxcaltecas. Reúne talento\, creatividad\, tradición\, y una mirada al inicio de toda una historiografía que al día de hoy seguimos recordando. \n\n\nHorario: 5:00 p.m. \nCosto: $10.00 (Ingreso al Recinto Ferial)
URL:https://escenariotlx.com/evento/resilientes-teatro-presentara-la-obra-nuestra-historia/
LOCATION:Recinto Feria Tlaxcala\, Avenida Tlahuicole\, Adolfo López Mateos\, Tlaxcala\, Tlaxcala\, 90040\, México
CATEGORIES:Teatro
ATTACH;FMTTYPE=image/jpeg:https://escenariotlx.com/wp-content/uploads/2025/11/573278930_728609543583716_5107815350101673863_n.jpg
END:VEVENT
END:VCALENDAR