BEGIN:VCALENDAR
VERSION:2.0
PRODID:-//Escenario Tlaxcala - ECPv6.15.16//NONSGML v1.0//EN
CALSCALE:GREGORIAN
METHOD:PUBLISH
X-WR-CALNAME:Escenario Tlaxcala
X-ORIGINAL-URL:https://escenariotlx.com
X-WR-CALDESC:Eventos para Escenario Tlaxcala
REFRESH-INTERVAL;VALUE=DURATION:PT1H
X-Robots-Tag:noindex
X-PUBLISHED-TTL:PT1H
BEGIN:VTIMEZONE
TZID:America/New_York
BEGIN:DAYLIGHT
TZOFFSETFROM:-0500
TZOFFSETTO:-0400
TZNAME:EDT
DTSTART:20220313T070000
END:DAYLIGHT
BEGIN:STANDARD
TZOFFSETFROM:-0400
TZOFFSETTO:-0500
TZNAME:EST
DTSTART:20221106T060000
END:STANDARD
BEGIN:DAYLIGHT
TZOFFSETFROM:-0500
TZOFFSETTO:-0400
TZNAME:EDT
DTSTART:20230312T070000
END:DAYLIGHT
BEGIN:STANDARD
TZOFFSETFROM:-0400
TZOFFSETTO:-0500
TZNAME:EST
DTSTART:20231105T060000
END:STANDARD
BEGIN:DAYLIGHT
TZOFFSETFROM:-0500
TZOFFSETTO:-0400
TZNAME:EDT
DTSTART:20240310T070000
END:DAYLIGHT
BEGIN:STANDARD
TZOFFSETFROM:-0400
TZOFFSETTO:-0500
TZNAME:EST
DTSTART:20241103T060000
END:STANDARD
END:VTIMEZONE
BEGIN:VEVENT
DTSTART;TZID=America/New_York:20230920T180000
DTEND;TZID=America/New_York:20230920T193000
DTSTAMP:20260422T051529
CREATED:20230808T173254Z
LAST-MODIFIED:20230814T163446Z
UID:10000424-1695232800-1695238200@escenariotlx.com
SUMMARY:Ciclo de conversatorios\, Conferencia: Proyecto de vida en Adolescentes
DESCRIPTION:Continuando con el Ciclo de Conversatorios\, te invitamos a la siguiente conferencia «Proyecto de vida en Adolescentes» que tendrá lugar el 20 de septiembre a las 18:00 hrs\nen el Museo Miguel N. Lira. \nLa ponente es Fabiola González\, egresada de la Universidad del Valle de Tlaxcala de la licenciatura en Psicología. Especialista en atención psicológica individual a niños\, adolescentes y jóvenes adultos desde el modelo Cognitivo-Conductual y como moderadora Dra. Mar Mora. \nInformes: 241 41 8 31 33 o 2411801696 \nLink de registro: https://forms.gle/a9HKYUPPQuCq6op86
URL:https://escenariotlx.com/evento/ciclo-de-conversatorios-conferencia-proyecto-de-vida-en-adolescentes/
LOCATION:Museo Miguel N. Lira
ATTACH;FMTTYPE=image/jpeg:https://escenariotlx.com/wp-content/uploads/2023/08/WhatsApp-Image-2023-08-08-at-11.54.32.jpeg
ORGANIZER;CN="Sinergia M%C3%A9xico":MAILTO:contacto@sinergiamexico.com.mx
END:VEVENT
BEGIN:VEVENT
DTSTART;TZID=America/New_York:20230823T180000
DTEND;TZID=America/New_York:20230823T193000
DTSTAMP:20260422T051529
CREATED:20230822T185403Z
LAST-MODIFIED:20230822T185403Z
UID:10000439-1692813600-1692819000@escenariotlx.com
SUMMARY:Ciclo de conversatorios\, Conferencia: Conductas de riesgo en los adolescentes
DESCRIPTION:Continuando con el Ciclo de Conversatorios\, te invitamos a la siguiente conferencia «Conductas de riesgo en los adolescentes» que tendrá lugar el 23 de agosto de 18:00 hrs a 19:30 hrs en el Museo Miguel N. Lira. \nLa ponente es Perla Dalia Rojas\, licenciada en trabajo social y maestra en educación sexual\, terapeuta sexual y de pareja. Conferencista y tallerista en temas de género y sexualidad y especialista en atención a mujeres en situación de violencia. egresada de la Universidad del Valle de Tlaxcala de la licenciatura en Psicología. \nSerá en la sede de las instalaciones de Sinergia en la calle Ignacio Zaragoza #409 Col. Centro\, Apizaco. \nInformes: 241 41 8 31 33 o 2411801696 \nLink de registro:https://forms.gle/RR6ssC5na6Sk2Auw7  \n: \n\n  \n\nConoce a la comunidad con membresía Escenario Tlaxcala que nos permite seguir haciendo periodismo independiente dando clic aquí.
URL:https://escenariotlx.com/evento/ciclo-de-conversatorios-conferencia-conductas-de-riesgo-en-los-adolescentes/
LOCATION:Sinergia México\, Calle Ignacio Zaragoza #409\, Col. Centro\, Apizaco\, Tlaxcala\, México
ATTACH;FMTTYPE=image/jpeg:https://escenariotlx.com/wp-content/uploads/2023/08/WhatsApp-Image-2023-08-22-at-12.39.38.jpeg
ORGANIZER;CN="Sinergia M%C3%A9xico":MAILTO:contacto@sinergiamexico.com.mx
END:VEVENT
BEGIN:VEVENT
DTSTART;TZID=America/New_York:20230726T180000
DTEND;TZID=America/New_York:20230726T193000
DTSTAMP:20260422T051529
CREATED:20230711T170155Z
LAST-MODIFIED:20230711T170235Z
UID:10000408-1690394400-1690399800@escenariotlx.com
SUMMARY:Conferencia: Duelo en Adolescentes
DESCRIPTION:Sinergia México te hace una atenta invitación a la conferencia “Duelo en Adolescentes” del Ciclo de Conversatorios en el Museo. \nEl 26 de julio a las 18:00 hrs. en las instalaciones de Sinergia\, ubicadas en la calle I. Zaragoza #409 en Apizaco\, Centro. \nPara más información llama al: 241 41 8 31 33 o 2411801696 \nLink de registro: https://forms.gle/qpFHgWgzkJuEZy8E6 \n \n\nTe puede interesar este evento: Taller de Verano Feminista
URL:https://escenariotlx.com/evento/conferencia-duelo-en-adolescentes/
LOCATION:Sinergia México\, Calle Ignacio Zaragoza #409\, Col. Centro\, Apizaco\, Tlaxcala\, México
CATEGORIES:Activismo,Conversatorio,Cursos
ATTACH;FMTTYPE=image/jpeg:https://escenariotlx.com/wp-content/uploads/2023/07/duelo.jpg
ORGANIZER;CN="Sinergia M%C3%A9xico":MAILTO:contacto@sinergiamexico.com.mx
END:VEVENT
BEGIN:VEVENT
DTSTART;TZID=America/New_York:20230628T180000
DTEND;TZID=America/New_York:20230628T193000
DTSTAMP:20260422T051529
CREATED:20230621T162716Z
LAST-MODIFIED:20230621T162733Z
UID:10000384-1687975200-1687980600@escenariotlx.com
SUMMARY:Conferencia “Salud mental para todes” - Sinergia México
DESCRIPTION:Sinergia México te hace una atenta invitación para que participes en la conferencia “Salud mental para todes” del Maestro Sergio Meixueiro. \nEl 28 de junio a las 18:00 hrs. en las instalaciones de Sinergia ubicadas en la Calle Ignacio Zaragoza #409\, Apizaco\, Tlaxcala. \nInformes al 241 41 8 31 33 o 2411801696 \nLink de registro: https://forms.gle/XiRp3qYwqX3CGrkZ9 \nUn poco sobre el Maestro Sergio Meixueiro \n\nPsicólogo y Master en Sexualidad\, Equidad y Perspectiva de Género\nEspecialista como Psicoterapeuta en poblaciones diversas\nDiplomado en Tópicos Selectos de Sexualidad\nCertificado en Terapia Familiar y Psicoterapia\nAfirmativa LGBTIQA+\nDocente y Locutor de Radio Online\nAcompañante emocional de una competencia Drag Queen\nDirector de la Unidad de Género y Diversidad de Orgullo Xalapa AC\n\n \n\nTe puede intersar este evento: Presentación del libro “Maximiliano y Tlaxcala el II Imperio”
URL:https://escenariotlx.com/evento/conferencia-salud-mental-para-todes/
LOCATION:Sinergia México\, Calle Ignacio Zaragoza #409\, Col. Centro\, Apizaco\, Tlaxcala\, México
CATEGORIES:Activismo,Conversatorio
ATTACH;FMTTYPE=image/jpeg:https://escenariotlx.com/wp-content/uploads/2023/06/salud-mental.jpg
ORGANIZER;CN="Sinergia M%C3%A9xico":MAILTO:contacto@sinergiamexico.com.mx
END:VEVENT
BEGIN:VEVENT
DTSTART;TZID=America/New_York:20230614T180000
DTEND;TZID=America/New_York:20230614T193000
DTSTAMP:20260422T051529
CREATED:20230529T165354Z
LAST-MODIFIED:20230529T165354Z
UID:10000339-1686765600-1686771000@escenariotlx.com
SUMMARY:Conferencia "Autocuidado de los hombres"
DESCRIPTION:Sinergia México te invita a participar en la conferencia «Autocuidado de los hombres» impartida por el Dr. Francisco Delfín Lara. \nEl 14 de junio a las 18:00 hrs. en el Museo Miguel N. Lira ubicado en Avevida Independencia #7. Tlaxcala; Centro. \nPara más información comunicate al 241 41 8 31 33 o 2411801696 \nLink de registro: https://forms.gle/ZU54MxJGGVR1Ho766 \nEl Dr. Francisco Delfín Lara impartirá la conferencia\n\nMédico Cirujano por la Universidad Nacional Autónoma de México.\nMaestría en Educación Sexual por el Centro Integral de Sexualidad y Educación Sexual.\nDiplomado en Educación de la Sexualidad por el Grupo Interdisciplinario de Sexología y el Instituto Superior de Docentes en Educación Especial.\nSexólogo/educador por el Instituto Mexicano de Sexología.\nCertificado como Sexólogo educador por el Consejo de Calificación Profesional en Educación Sexual y Sexología.\n\n \n\nTe puede interesar: Swingers tlaxcaltecas\, otra forma de vivir el amor y la sexualidad al intercambiar parejas
URL:https://escenariotlx.com/evento/conferencia-autocuidado-de-los-hombres/
LOCATION:Museo Miguel N. Lira
CATEGORIES:Conversatorio,Foro,Museos,Salud
ATTACH;FMTTYPE=image/jpeg:https://escenariotlx.com/wp-content/uploads/2023/05/Autocuidado.jpg
ORGANIZER;CN="Sinergia M%C3%A9xico":MAILTO:contacto@sinergiamexico.com.mx
END:VEVENT
BEGIN:VEVENT
DTSTART;TZID=America/New_York:20230524T180000
DTEND;TZID=America/New_York:20230524T193000
DTSTAMP:20260422T051529
CREATED:20230512T173128Z
LAST-MODIFIED:20230512T173128Z
UID:10000313-1684951200-1684956600@escenariotlx.com
SUMMARY:Conferencia: Duelo en neonatos
DESCRIPTION:Sinergia México te invita a la conferencia “Duelo en neonatos” en continuación del ciclo de conversatorios de en el museo de 2023. La conferencia será impartida por la enfermera Verónica Muñoz. \nTe compartimos un poco de ella ⤵ \n\nLicenciada en Enfermería y Obstetricia por la UATx\nDiplomado en Heridas y Estomas por el HIT\nActualmente cursando la Especialidad en Enfermería Perinatal por la UATx\n\nExperiencia Laboral \n\nEnfermera de Ambulancia\nPresidenta del Comité de Bioética y Coordinadora de Enseñanza y Calidad del Hospital Comunitario de Tlaxcala\nAcreditada Estatal para Unidades de lar y 2do nivel de atención\nCoordinadora Estatal de Enseñanza de Enfermería en OPO Salud de Tlaxcala\nActualmente Líder de la Clínica de Lactancia Materna del Hospital General Regional «Emilio Sanchez Piedras»\n\nEl 03 de mayo a las 18:00 hrs en Sinergia (Calle Ignacio Zaragoza #409\, Col. Centro\, Apizaco; Tlaxcala). \nInformes al 241 41 8 31 33 o 2411801696. \nTe puedes registrar en: https://forms.gle/zdHooDGDiXKAGexHA \n \n\nTe puede interesar este evento: Gran estreno del concierto de piano con el vals “Tierra Tlaxcalteca”
URL:https://escenariotlx.com/evento/conferencia-duelo-en-neonatos-sinergia/
LOCATION:Sinergia México\, Calle Ignacio Zaragoza #409\, Col. Centro\, Apizaco\, Tlaxcala\, México
CATEGORIES:Conversatorio,Foro
ATTACH;FMTTYPE=image/jpeg:https://escenariotlx.com/wp-content/uploads/2023/05/conversatorio.jpg
ORGANIZER;CN="Sinergia M%C3%A9xico":MAILTO:contacto@sinergiamexico.com.mx
END:VEVENT
BEGIN:VEVENT
DTSTART;TZID=America/New_York:20230522T170000
DTEND;TZID=America/New_York:20230522T190000
DTSTAMP:20260422T051529
CREATED:20230503T175744Z
LAST-MODIFIED:20230503T175744Z
UID:10000296-1684774800-1684782000@escenariotlx.com
SUMMARY:Presentación del libro "Jódete Cáncer" de Sandra Monroy
DESCRIPTION:Este mes el Museo Miguel N. Lira Oficial les invita a la presentación del libro «Jódete Cáncer» de Sandra Monroy activista contra el cáncer de mama quien nos cuenta su experiencia con esta enfermedad. \nEl lunes 22 de Mayo a las 17:00 horas en el Auditorio del Museo Miguel N. Lira. \nOrganizan Sinergia México y Museo Miguel N. Lira Oficial \n \n\nTe interesa este evento: Participa en el Campeonato Nacional Dodgeball Apizaco 2023
URL:https://escenariotlx.com/evento/presentacion-del-libro-jodete-cancer/
LOCATION:Museo Miguel N. Lira
CATEGORIES:Libros
ATTACH;FMTTYPE=image/jpeg:https://escenariotlx.com/wp-content/uploads/2023/05/jodete-cancer.jpg
END:VEVENT
END:VCALENDAR