BEGIN:VCALENDAR
VERSION:2.0
PRODID:-//Escenario Tlaxcala - ECPv6.15.16//NONSGML v1.0//EN
CALSCALE:GREGORIAN
METHOD:PUBLISH
X-ORIGINAL-URL:https://escenariotlx.com
X-WR-CALDESC:Eventos para Escenario Tlaxcala
REFRESH-INTERVAL;VALUE=DURATION:PT1H
X-Robots-Tag:noindex
X-PUBLISHED-TTL:PT1H
BEGIN:VTIMEZONE
TZID:America/New_York
BEGIN:DAYLIGHT
TZOFFSETFROM:-0500
TZOFFSETTO:-0400
TZNAME:EDT
DTSTART:20220313T070000
END:DAYLIGHT
BEGIN:STANDARD
TZOFFSETFROM:-0400
TZOFFSETTO:-0500
TZNAME:EST
DTSTART:20221106T060000
END:STANDARD
BEGIN:DAYLIGHT
TZOFFSETFROM:-0500
TZOFFSETTO:-0400
TZNAME:EDT
DTSTART:20230312T070000
END:DAYLIGHT
BEGIN:STANDARD
TZOFFSETFROM:-0400
TZOFFSETTO:-0500
TZNAME:EST
DTSTART:20231105T060000
END:STANDARD
BEGIN:DAYLIGHT
TZOFFSETFROM:-0500
TZOFFSETTO:-0400
TZNAME:EDT
DTSTART:20240310T070000
END:DAYLIGHT
BEGIN:STANDARD
TZOFFSETFROM:-0400
TZOFFSETTO:-0500
TZNAME:EST
DTSTART:20241103T060000
END:STANDARD
END:VTIMEZONE
BEGIN:VEVENT
DTSTART;TZID=America/New_York:20230211T110000
DTEND;TZID=America/New_York:20230211T130000
DTSTAMP:20260421T104206
CREATED:20230209T203556Z
LAST-MODIFIED:20230209T203556Z
UID:10000234-1676113200-1676120400@escenariotlx.com
SUMMARY:Haciendo Ciencia como Niñas
DESCRIPTION:La CEDH de #Tlaxcala y la organización Tecnologías Ardilleras te invitan a participar en el evento virtual “Haciendo Ciencia como Niñas” \nEl próximo sábado 11 de febrero a las 11:00 hrs.\, en el marco del Día Internacional de la #Mujer y la #Niña en la Ciencia. \nEn Tecnologías Ardilleras les encanta todo lo relacionado con la ciencia\, la tecnología y el arte\, pero sobre todo los videojuegos\n\nJunto a la Comisión Estatal de Derechos Humanos de Tlaxcala\, organizaron algunas actividades para conmemorar el día de la niña y la mujer en el ciencia\, siendo este Webinar la primera de ellas.\n\nAcompáñelas a cantar juntas al cuerpo eléctrico ¡Les esperamos!\n\nInscríbete en: https://acortar.link/dLuaYq
URL:https://escenariotlx.com/evento/haciendo-ciencia-como-ninas/
CATEGORIES:Cursos
ATTACH;FMTTYPE=image/jpeg:https://escenariotlx.com/wp-content/uploads/2023/02/329128152_1379352012879288_664246925574942294_n.jpg
END:VEVENT
END:VCALENDAR