BEGIN:VCALENDAR
VERSION:2.0
PRODID:-//Escenario Tlaxcala - ECPv6.15.16//NONSGML v1.0//EN
CALSCALE:GREGORIAN
METHOD:PUBLISH
X-ORIGINAL-URL:https://escenariotlx.com
X-WR-CALDESC:Eventos para Escenario Tlaxcala
REFRESH-INTERVAL;VALUE=DURATION:PT1H
X-Robots-Tag:noindex
X-PUBLISHED-TTL:PT1H
BEGIN:VTIMEZONE
TZID:America/New_York
BEGIN:DAYLIGHT
TZOFFSETFROM:-0500
TZOFFSETTO:-0400
TZNAME:EDT
DTSTART:20250309T070000
END:DAYLIGHT
BEGIN:STANDARD
TZOFFSETFROM:-0400
TZOFFSETTO:-0500
TZNAME:EST
DTSTART:20251102T060000
END:STANDARD
BEGIN:DAYLIGHT
TZOFFSETFROM:-0500
TZOFFSETTO:-0400
TZNAME:EDT
DTSTART:20260308T070000
END:DAYLIGHT
BEGIN:STANDARD
TZOFFSETFROM:-0400
TZOFFSETTO:-0500
TZNAME:EST
DTSTART:20261101T060000
END:STANDARD
BEGIN:DAYLIGHT
TZOFFSETFROM:-0500
TZOFFSETTO:-0400
TZNAME:EDT
DTSTART:20270314T070000
END:DAYLIGHT
BEGIN:STANDARD
TZOFFSETFROM:-0400
TZOFFSETTO:-0500
TZNAME:EST
DTSTART:20271107T060000
END:STANDARD
END:VTIMEZONE
BEGIN:VEVENT
DTSTART;TZID=America/New_York:20260410T183000
DTEND;TZID=America/New_York:20260410T200000
DTSTAMP:20260421T044753
CREATED:20260409T164324Z
LAST-MODIFIED:20260409T164324Z
UID:10002684-1775845800-1775851200@escenariotlx.com
SUMMARY:Proyección de “Mi No Lugar” en La Central
DESCRIPTION:Territorio Fílmico y Tochtli Estudio realizarán la proyección de «Mi No Lugar»\, una obra que pone sobre la mesa las crudas realidades de la migración y la desigualdad. La cita es este viernes 10 de abril para disfrutar de una producción que confronta al espectador con la vulnerabilidad de la infancia en entornos hostiles. \n¿De qué trata «Mi No Lugar»?\nLa cinta sigue la vida de Jonathan\, un adolescente de personalidad reacia que migra impulsado por la ilusión de sus padres de que curse la secundaria. Lamentablemente\, el choque con la desigualdad social lo empujará hacia un complejo escenario de explotación infantil. \nDetalles de la función\n\nFecha: Viernes 10 de abril.\nHora: 6:30 PM.\nLugar: La Central Arte\, Cultura y Entretenimiento (a una cuadra de la Central Camionera de Tlaxcala).\nDuración: 75 minutos.\nCosto: Entrada libre y soberana.
URL:https://escenariotlx.com/evento/proyeccion-de-mi-no-lugar-en-la-central/
LOCATION:La Central\, San Hipólito Chimalpa
CATEGORIES:Presentación
ATTACH;FMTTYPE=image/jpeg:https://escenariotlx.com/wp-content/uploads/2026/04/proyeccion-de-mi-no-lugar.jpg
END:VEVENT
END:VCALENDAR