BEGIN:VCALENDAR
VERSION:2.0
PRODID:-//Escenario Tlaxcala - ECPv6.15.16//NONSGML v1.0//EN
CALSCALE:GREGORIAN
METHOD:PUBLISH
X-WR-CALNAME:Escenario Tlaxcala
X-ORIGINAL-URL:https://escenariotlx.com
X-WR-CALDESC:Eventos para Escenario Tlaxcala
REFRESH-INTERVAL;VALUE=DURATION:PT1H
X-Robots-Tag:noindex
X-PUBLISHED-TTL:PT1H
BEGIN:VTIMEZONE
TZID:America/New_York
BEGIN:DAYLIGHT
TZOFFSETFROM:-0500
TZOFFSETTO:-0400
TZNAME:EDT
DTSTART:20240310T070000
END:DAYLIGHT
BEGIN:STANDARD
TZOFFSETFROM:-0400
TZOFFSETTO:-0500
TZNAME:EST
DTSTART:20241103T060000
END:STANDARD
BEGIN:DAYLIGHT
TZOFFSETFROM:-0500
TZOFFSETTO:-0400
TZNAME:EDT
DTSTART:20250309T070000
END:DAYLIGHT
BEGIN:STANDARD
TZOFFSETFROM:-0400
TZOFFSETTO:-0500
TZNAME:EST
DTSTART:20251102T060000
END:STANDARD
BEGIN:DAYLIGHT
TZOFFSETFROM:-0500
TZOFFSETTO:-0400
TZNAME:EDT
DTSTART:20260308T070000
END:DAYLIGHT
BEGIN:STANDARD
TZOFFSETFROM:-0400
TZOFFSETTO:-0500
TZNAME:EST
DTSTART:20261101T060000
END:STANDARD
END:VTIMEZONE
BEGIN:VEVENT
DTSTART;TZID=America/New_York:20250306T160000
DTEND;TZID=America/New_York:20250306T170000
DTSTAMP:20260424T063217
CREATED:20250306T051740Z
LAST-MODIFIED:20250306T051740Z
UID:10000646-1741276800-1741280400@escenariotlx.com
SUMMARY:Función Anayeli
DESCRIPTION:
URL:https://escenariotlx.com/evento/funcion-anayeli/
LOCATION:UATx: Centro Cultural Universitario\, La Loma Xicohtencatl\, Tlaxcala\, Tlaxcala\, 90070\, México
CATEGORIES:Cine
ATTACH;FMTTYPE=image/png:https://escenariotlx.com/wp-content/uploads/2025/03/481946908_1109567194302045_6605211683624760699_n.png
END:VEVENT
END:VCALENDAR