BEGIN:VCALENDAR
VERSION:2.0
PRODID:-//Escenario Tlaxcala - ECPv6.15.16//NONSGML v1.0//EN
CALSCALE:GREGORIAN
METHOD:PUBLISH
X-ORIGINAL-URL:https://escenariotlx.com
X-WR-CALDESC:Eventos para Escenario Tlaxcala
REFRESH-INTERVAL;VALUE=DURATION:PT1H
X-Robots-Tag:noindex
X-PUBLISHED-TTL:PT1H
BEGIN:VTIMEZONE
TZID:America/New_York
BEGIN:DAYLIGHT
TZOFFSETFROM:-0500
TZOFFSETTO:-0400
TZNAME:EDT
DTSTART:20240310T070000
END:DAYLIGHT
BEGIN:STANDARD
TZOFFSETFROM:-0400
TZOFFSETTO:-0500
TZNAME:EST
DTSTART:20241103T060000
END:STANDARD
BEGIN:DAYLIGHT
TZOFFSETFROM:-0500
TZOFFSETTO:-0400
TZNAME:EDT
DTSTART:20250309T070000
END:DAYLIGHT
BEGIN:STANDARD
TZOFFSETFROM:-0400
TZOFFSETTO:-0500
TZNAME:EST
DTSTART:20251102T060000
END:STANDARD
BEGIN:DAYLIGHT
TZOFFSETFROM:-0500
TZOFFSETTO:-0400
TZNAME:EDT
DTSTART:20260308T070000
END:DAYLIGHT
BEGIN:STANDARD
TZOFFSETFROM:-0400
TZOFFSETTO:-0500
TZNAME:EST
DTSTART:20261101T060000
END:STANDARD
BEGIN:DAYLIGHT
TZOFFSETFROM:-0500
TZOFFSETTO:-0400
TZNAME:EDT
DTSTART:20270314T070000
END:DAYLIGHT
BEGIN:STANDARD
TZOFFSETFROM:-0400
TZOFFSETTO:-0500
TZNAME:EST
DTSTART:20271107T060000
END:STANDARD
END:VTIMEZONE
BEGIN:VEVENT
DTSTART;TZID=America/New_York:20260420T093000
DTEND;TZID=America/New_York:20260420T133000
DTSTAMP:20260420T201923
CREATED:20260327T171816Z
LAST-MODIFIED:20260327T171852Z
UID:10002670-1776677400-1776691800@escenariotlx.com
SUMMARY:Diálogos universitarios ante la crisis socioambiental: Un encuentro imperdible
DESCRIPTION:Los los «Diálogos universitarios ante la crisis socioambiental» llegarán este 20 de abril\, será un foro pensado para la reflexión\, el debate y la creación de soluciones. \nEn esta edición\, la plática se pondrá más que interesante\, ya que se profundizará en temas vitales de nuestra actualidad. Prepárate para abordar todo sobre el cambio climático\, la transición hacia las energías renovables y\, sobre todo\, cómo adaptar la praxis profesional frente a estos enormes retos globales. Será una jornada llena de ideas y propuestas frescas. \nLos detalles que debes conocer: \n\nCuándo: 20 de abril.\nHorario: De 9:30 a 13:30 horas.\nDónde: Auditorio del CIE Ángel Díaz Barriga.
URL:https://escenariotlx.com/evento/dialogos-universitarios-ante-la-crisis/
LOCATION:Auditorio del CIE Ángel Díaz Barriga.
CATEGORIES:Conversatorio
ATTACH;FMTTYPE=image/jpeg:https://escenariotlx.com/wp-content/uploads/2026/03/656744415_1471193231306036_2043707718601419451_n.jpg
END:VEVENT
BEGIN:VEVENT
DTSTART;TZID=America/New_York:20251110T170000
DTEND;TZID=America/New_York:20251110T190000
DTSTAMP:20260420T201923
CREATED:20251104T213951Z
LAST-MODIFIED:20251104T214033Z
UID:10002387-1762794000-1762801200@escenariotlx.com
SUMMARY:Tercera Temporada sobre los diálogos universitarios ante la crisis socioambiental
DESCRIPTION:El Centro de Investigación Educativa (CIE UATx) continuará con la tercera temporada de los «Diálogos Universitarios Ante la Crisis Socioambiental» un espacio para la acción y la reflexión.\nEn esta próxima sesión\, se concentrarán en: Proyecto Basura Cero Estratégico (BaCE): Un espacio de encuentros para detonar acciones. Si te interesa la sustentabilidad\, el ecologismo y quieres ser parte de las soluciones locales ante el cambio global\, ¡ESTE ES TU LUGAR!\nPróxima Reunión: Lunes 10 de Noviembre.\nHora: De las 5:00 a 7:00 p.m.\nLugar: Centro de Investigación Educativa (CIE UATx)\n¡Por una cultura de paz y acción socioambiental!
URL:https://escenariotlx.com/evento/dialogos-universitarios-crisis-socioambiental/
LOCATION:Centro de Investigación Educativa\, Km 1.5 Carretera Tlaxcala-Puebla No. s/n\, Universidad Autonoma de Tlaxcala.\, Tlaxcala\, Tlaxcala\, 90114\, Mexico
ATTACH;FMTTYPE=image/jpeg:https://escenariotlx.com/wp-content/uploads/2025/11/574407565_18064307519564271_608734471109992134_n.jpg
END:VEVENT
BEGIN:VEVENT
DTSTART;TZID=America/New_York:20251017T100000
DTEND;TZID=America/New_York:20251019T180000
DTSTAMP:20260420T201923
CREATED:20251016T162224Z
LAST-MODIFIED:20251016T162906Z
UID:10002332-1760695200-1760896800@escenariotlx.com
SUMMARY:¡YA ESTÁ LISTA LA EDICIÓN DEL FESTIVAL ETNOBIOLÓGICO “RAÍCES Y SABERES: TLAXCALLAN”!
DESCRIPTION:La Universidad Autónoma de Tlaxcala\, a través de la Secretaria de Investigación Científica y Posgrado\, el Centro de Investigación en Ciencias Biológicas y el Jardín Etnobiológico Tlaxcallan\, invitan a disfrutar de un encuentro que uno conocimiento\, cultura y naturaleza. \nSe realizará durante los días viernes\, 17\, sábado 18 y domingo 19 de octubre en un horario de 10:00 a 18:00 hrs. \n¡LA ENTRA ES GRATUITA!
URL:https://escenariotlx.com/evento/ya-esta-lista-la-edicion-del-festival-etnobiologico-raices-y-saberes-tlaxcallan/
LOCATION:Palacio de Cultura\, Av. Juárez #62\, Tlaxcala de Xicohtencatl
CATEGORIES:Conversatorio,Festivales
ATTACH;FMTTYPE=image/jpeg:https://escenariotlx.com/wp-content/uploads/2025/10/565343894_820534093696948_5872780600526208064_n.jpg
END:VEVENT
BEGIN:VEVENT
DTSTART;TZID=America/New_York:20250327T170000
DTEND;TZID=America/New_York:20250327T180000
DTSTAMP:20260420T201923
CREATED:20250320T035045Z
LAST-MODIFIED:20250320T035045Z
UID:10001167-1743094800-1743098400@escenariotlx.com
SUMMARY:Conferencia Mujeres en la ciudad de Tlaxcala
DESCRIPTION:
URL:https://escenariotlx.com/evento/conferencia-mujeres-en-la-ciudad-de-tlaxcala/
LOCATION:Museo de la Memoria de Tlaxcala
CATEGORIES:Conversatorio
ATTACH;FMTTYPE=image/webp:https://escenariotlx.com/wp-content/uploads/2025/03/485006049_1167096471869652_7559406620758987956_n.webp
END:VEVENT
BEGIN:VEVENT
DTSTART;TZID=America/New_York:20250224T100000
DTEND;TZID=America/New_York:20250224T180000
DTSTAMP:20260420T201923
CREATED:20250218T160959Z
LAST-MODIFIED:20250218T164312Z
UID:10000551-1740391200-1740420000@escenariotlx.com
SUMMARY:Foro: Mujeres\, Ciencia y Compromiso Social
DESCRIPTION:El CIISDER UATx te invita al Foro: Mujeres\, Ciencia y Compromiso Social \n 
URL:https://escenariotlx.com/evento/foro-mujeres-ciencia-y-compromiso-social/
LOCATION:Infoteca Central de la AUTx
CATEGORIES:Foro
ATTACH;FMTTYPE=image/jpeg:https://escenariotlx.com/wp-content/uploads/2025/02/480308798_573571965681460_7868853363997768378_n.jpg
END:VEVENT
BEGIN:VEVENT
DTSTART;TZID=America/New_York:20250208T163000
DTEND;TZID=America/New_York:20250208T200000
DTSTAMP:20260420T201923
CREATED:20250130T155304Z
LAST-MODIFIED:20250130T155417Z
UID:10000524-1739032200-1739044800@escenariotlx.com
SUMMARY:Participa En Mujeres y Niñas Tejiendo Ciencias
DESCRIPTION:Un encuentro entre el cielo y la naturaleza \nTe invitamos a  formar parte del evento  Mujeres y Niñas Tejiendo Ciencias organizado por la Universidad Autónoma de Tlaxcala\, se llevará a cabo el sábado 8 de febrero de 2025 a las 4:30 p.m. en el Parque Temático de Tlaxcala «Avión Boeing 727»\, ubicado en la calle Insurgentes\, Col. Cuahuatzala en Tizatlán\, Tlaxcala. \nPrograma de actividades:\n\n\n5:00 p.m. – Apertura del evento\n5:30 p.m. – Narración oral “La mujer de las estrellas»\n5:30 p.m. – Expoventa de productoras y artesanas locales\n6:00 p.m. – Talleres: Los tesoros del bosque y la salud reproductiva femenina\n6:30 p.m. – Charla astronómica\n7:00 p.m. – Observación de la Luna y los planetas Júpiter\, Saturno\, Marte y Venus a través de telescopios\n8:00 p.m. – Cierre del evento\n\nConoce más eventos en nuestra Cartelera Eventos Tlx https://escenariotlx.com/evento/unete-al-7mo-festival-de-los-humedales-de-tlaxcala-y-el-3er-festitlax-de-los-anfibios/ \n 
URL:https://escenariotlx.com/evento/participa-en-mujeres-y-ninas-tejiendo-ciencias/
LOCATION:Parque Temático de Tlaxcala Avión Boeing
CATEGORIES:Talleres
ATTACH;FMTTYPE=image/png:https://escenariotlx.com/wp-content/uploads/2025/01/1faa6eb9-8f9e-4333-8c2d-48087a7ab931.png
END:VEVENT
END:VCALENDAR