BEGIN:VCALENDAR
VERSION:2.0
PRODID:-//Escenario Tlaxcala - ECPv6.15.16//NONSGML v1.0//EN
CALSCALE:GREGORIAN
METHOD:PUBLISH
X-WR-CALNAME:Escenario Tlaxcala
X-ORIGINAL-URL:https://escenariotlx.com
X-WR-CALDESC:Eventos para Escenario Tlaxcala
REFRESH-INTERVAL;VALUE=DURATION:PT1H
X-Robots-Tag:noindex
X-PUBLISHED-TTL:PT1H
BEGIN:VTIMEZONE
TZID:America/New_York
BEGIN:DAYLIGHT
TZOFFSETFROM:-0500
TZOFFSETTO:-0400
TZNAME:EDT
DTSTART:20240310T070000
END:DAYLIGHT
BEGIN:STANDARD
TZOFFSETFROM:-0400
TZOFFSETTO:-0500
TZNAME:EST
DTSTART:20241103T060000
END:STANDARD
BEGIN:DAYLIGHT
TZOFFSETFROM:-0500
TZOFFSETTO:-0400
TZNAME:EDT
DTSTART:20250309T070000
END:DAYLIGHT
BEGIN:STANDARD
TZOFFSETFROM:-0400
TZOFFSETTO:-0500
TZNAME:EST
DTSTART:20251102T060000
END:STANDARD
BEGIN:DAYLIGHT
TZOFFSETFROM:-0500
TZOFFSETTO:-0400
TZNAME:EDT
DTSTART:20260308T070000
END:DAYLIGHT
BEGIN:STANDARD
TZOFFSETFROM:-0400
TZOFFSETTO:-0500
TZNAME:EST
DTSTART:20261101T060000
END:STANDARD
END:VTIMEZONE
BEGIN:VEVENT
DTSTART;TZID=America/New_York:20251125T160000
DTEND;TZID=America/New_York:20251125T180000
DTSTAMP:20260420T033306
CREATED:20250312T161857Z
LAST-MODIFIED:20250312T161857Z
UID:10000688-1764086400-1764093600@escenariotlx.com
SUMMARY:Taller profesional: Maquillaje Artístico\, hair style y Fashion Show
DESCRIPTION:Información e inscripciones:\n\n\nOficina de Coordinación del Centro de las Artes Tlaxcala\, Fernando Solana 1\, Primera Sección\, San Luis Apizaquito\, Apizaco\, Tlaxcala\, C.P. 90401.\n\n\nTel. 2414188960 Ext. 164
URL:https://escenariotlx.com/evento/taller-profesional-maquillaje-artistico-hair-style-y-fashion-show/2025-11-25/
LOCATION:Centro de las Artes Tlaxcala
CATEGORIES:Talleres
ATTACH;FMTTYPE=image/jpeg:https://escenariotlx.com/wp-content/uploads/2025/03/476865763_1039803058176551_7531445438528313020_n-1.jpg
END:VEVENT
BEGIN:VEVENT
DTSTART;TZID=America/New_York:20251118T160000
DTEND;TZID=America/New_York:20251118T180000
DTSTAMP:20260420T033306
CREATED:20250312T161857Z
LAST-MODIFIED:20250312T161857Z
UID:10000687-1763481600-1763488800@escenariotlx.com
SUMMARY:Taller profesional: Maquillaje Artístico\, hair style y Fashion Show
DESCRIPTION:Información e inscripciones:\n\n\nOficina de Coordinación del Centro de las Artes Tlaxcala\, Fernando Solana 1\, Primera Sección\, San Luis Apizaquito\, Apizaco\, Tlaxcala\, C.P. 90401.\n\n\nTel. 2414188960 Ext. 164
URL:https://escenariotlx.com/evento/taller-profesional-maquillaje-artistico-hair-style-y-fashion-show/2025-11-18/
LOCATION:Centro de las Artes Tlaxcala
CATEGORIES:Talleres
ATTACH;FMTTYPE=image/jpeg:https://escenariotlx.com/wp-content/uploads/2025/03/476865763_1039803058176551_7531445438528313020_n-1.jpg
END:VEVENT
BEGIN:VEVENT
DTSTART;TZID=America/New_York:20251111T160000
DTEND;TZID=America/New_York:20251111T180000
DTSTAMP:20260420T033306
CREATED:20250312T161857Z
LAST-MODIFIED:20250312T161857Z
UID:10000686-1762876800-1762884000@escenariotlx.com
SUMMARY:Taller profesional: Maquillaje Artístico\, hair style y Fashion Show
DESCRIPTION:Información e inscripciones:\n\n\nOficina de Coordinación del Centro de las Artes Tlaxcala\, Fernando Solana 1\, Primera Sección\, San Luis Apizaquito\, Apizaco\, Tlaxcala\, C.P. 90401.\n\n\nTel. 2414188960 Ext. 164
URL:https://escenariotlx.com/evento/taller-profesional-maquillaje-artistico-hair-style-y-fashion-show/2025-11-11/
LOCATION:Centro de las Artes Tlaxcala
CATEGORIES:Talleres
ATTACH;FMTTYPE=image/jpeg:https://escenariotlx.com/wp-content/uploads/2025/03/476865763_1039803058176551_7531445438528313020_n-1.jpg
END:VEVENT
BEGIN:VEVENT
DTSTART;TZID=America/New_York:20251104T160000
DTEND;TZID=America/New_York:20251104T180000
DTSTAMP:20260420T033306
CREATED:20250312T161857Z
LAST-MODIFIED:20250312T161857Z
UID:10000685-1762272000-1762279200@escenariotlx.com
SUMMARY:Taller profesional: Maquillaje Artístico\, hair style y Fashion Show
DESCRIPTION:Información e inscripciones:\n\n\nOficina de Coordinación del Centro de las Artes Tlaxcala\, Fernando Solana 1\, Primera Sección\, San Luis Apizaquito\, Apizaco\, Tlaxcala\, C.P. 90401.\n\n\nTel. 2414188960 Ext. 164
URL:https://escenariotlx.com/evento/taller-profesional-maquillaje-artistico-hair-style-y-fashion-show/2025-11-04/
LOCATION:Centro de las Artes Tlaxcala
CATEGORIES:Talleres
ATTACH;FMTTYPE=image/jpeg:https://escenariotlx.com/wp-content/uploads/2025/03/476865763_1039803058176551_7531445438528313020_n-1.jpg
END:VEVENT
BEGIN:VEVENT
DTSTART;TZID=America/New_York:20251028T160000
DTEND;TZID=America/New_York:20251028T180000
DTSTAMP:20260420T033306
CREATED:20250312T161857Z
LAST-MODIFIED:20250312T161857Z
UID:10000684-1761667200-1761674400@escenariotlx.com
SUMMARY:Taller profesional: Maquillaje Artístico\, hair style y Fashion Show
DESCRIPTION:Información e inscripciones:\n\n\nOficina de Coordinación del Centro de las Artes Tlaxcala\, Fernando Solana 1\, Primera Sección\, San Luis Apizaquito\, Apizaco\, Tlaxcala\, C.P. 90401.\n\n\nTel. 2414188960 Ext. 164
URL:https://escenariotlx.com/evento/taller-profesional-maquillaje-artistico-hair-style-y-fashion-show/2025-10-28/
LOCATION:Centro de las Artes Tlaxcala
CATEGORIES:Talleres
ATTACH;FMTTYPE=image/jpeg:https://escenariotlx.com/wp-content/uploads/2025/03/476865763_1039803058176551_7531445438528313020_n-1.jpg
END:VEVENT
BEGIN:VEVENT
DTSTART;TZID=America/New_York:20251021T160000
DTEND;TZID=America/New_York:20251021T180000
DTSTAMP:20260420T033306
CREATED:20250312T161857Z
LAST-MODIFIED:20250312T161857Z
UID:10000683-1761062400-1761069600@escenariotlx.com
SUMMARY:Taller profesional: Maquillaje Artístico\, hair style y Fashion Show
DESCRIPTION:Información e inscripciones:\n\n\nOficina de Coordinación del Centro de las Artes Tlaxcala\, Fernando Solana 1\, Primera Sección\, San Luis Apizaquito\, Apizaco\, Tlaxcala\, C.P. 90401.\n\n\nTel. 2414188960 Ext. 164
URL:https://escenariotlx.com/evento/taller-profesional-maquillaje-artistico-hair-style-y-fashion-show/2025-10-21/
LOCATION:Centro de las Artes Tlaxcala
CATEGORIES:Talleres
ATTACH;FMTTYPE=image/jpeg:https://escenariotlx.com/wp-content/uploads/2025/03/476865763_1039803058176551_7531445438528313020_n-1.jpg
END:VEVENT
BEGIN:VEVENT
DTSTART;TZID=America/New_York:20251014T160000
DTEND;TZID=America/New_York:20251014T180000
DTSTAMP:20260420T033306
CREATED:20250312T161857Z
LAST-MODIFIED:20250312T161857Z
UID:10000682-1760457600-1760464800@escenariotlx.com
SUMMARY:Taller profesional: Maquillaje Artístico\, hair style y Fashion Show
DESCRIPTION:Información e inscripciones:\n\n\nOficina de Coordinación del Centro de las Artes Tlaxcala\, Fernando Solana 1\, Primera Sección\, San Luis Apizaquito\, Apizaco\, Tlaxcala\, C.P. 90401.\n\n\nTel. 2414188960 Ext. 164
URL:https://escenariotlx.com/evento/taller-profesional-maquillaje-artistico-hair-style-y-fashion-show/2025-10-14/
LOCATION:Centro de las Artes Tlaxcala
CATEGORIES:Talleres
ATTACH;FMTTYPE=image/jpeg:https://escenariotlx.com/wp-content/uploads/2025/03/476865763_1039803058176551_7531445438528313020_n-1.jpg
END:VEVENT
BEGIN:VEVENT
DTSTART;TZID=America/New_York:20251007T160000
DTEND;TZID=America/New_York:20251007T180000
DTSTAMP:20260420T033306
CREATED:20250312T161857Z
LAST-MODIFIED:20250312T161857Z
UID:10000681-1759852800-1759860000@escenariotlx.com
SUMMARY:Taller profesional: Maquillaje Artístico\, hair style y Fashion Show
DESCRIPTION:Información e inscripciones:\n\n\nOficina de Coordinación del Centro de las Artes Tlaxcala\, Fernando Solana 1\, Primera Sección\, San Luis Apizaquito\, Apizaco\, Tlaxcala\, C.P. 90401.\n\n\nTel. 2414188960 Ext. 164
URL:https://escenariotlx.com/evento/taller-profesional-maquillaje-artistico-hair-style-y-fashion-show/2025-10-07/
LOCATION:Centro de las Artes Tlaxcala
CATEGORIES:Talleres
ATTACH;FMTTYPE=image/jpeg:https://escenariotlx.com/wp-content/uploads/2025/03/476865763_1039803058176551_7531445438528313020_n-1.jpg
END:VEVENT
BEGIN:VEVENT
DTSTART;TZID=America/New_York:20250930T160000
DTEND;TZID=America/New_York:20250930T180000
DTSTAMP:20260420T033306
CREATED:20250312T161857Z
LAST-MODIFIED:20250312T161857Z
UID:10000680-1759248000-1759255200@escenariotlx.com
SUMMARY:Taller profesional: Maquillaje Artístico\, hair style y Fashion Show
DESCRIPTION:Información e inscripciones:\n\n\nOficina de Coordinación del Centro de las Artes Tlaxcala\, Fernando Solana 1\, Primera Sección\, San Luis Apizaquito\, Apizaco\, Tlaxcala\, C.P. 90401.\n\n\nTel. 2414188960 Ext. 164
URL:https://escenariotlx.com/evento/taller-profesional-maquillaje-artistico-hair-style-y-fashion-show/2025-09-30/
LOCATION:Centro de las Artes Tlaxcala
CATEGORIES:Talleres
ATTACH;FMTTYPE=image/jpeg:https://escenariotlx.com/wp-content/uploads/2025/03/476865763_1039803058176551_7531445438528313020_n-1.jpg
END:VEVENT
BEGIN:VEVENT
DTSTART;TZID=America/New_York:20250923T160000
DTEND;TZID=America/New_York:20250923T180000
DTSTAMP:20260420T033306
CREATED:20250312T161857Z
LAST-MODIFIED:20250312T161857Z
UID:10000679-1758643200-1758650400@escenariotlx.com
SUMMARY:Taller profesional: Maquillaje Artístico\, hair style y Fashion Show
DESCRIPTION:Información e inscripciones:\n\n\nOficina de Coordinación del Centro de las Artes Tlaxcala\, Fernando Solana 1\, Primera Sección\, San Luis Apizaquito\, Apizaco\, Tlaxcala\, C.P. 90401.\n\n\nTel. 2414188960 Ext. 164
URL:https://escenariotlx.com/evento/taller-profesional-maquillaje-artistico-hair-style-y-fashion-show/2025-09-23/
LOCATION:Centro de las Artes Tlaxcala
CATEGORIES:Talleres
ATTACH;FMTTYPE=image/jpeg:https://escenariotlx.com/wp-content/uploads/2025/03/476865763_1039803058176551_7531445438528313020_n-1.jpg
END:VEVENT
BEGIN:VEVENT
DTSTART;TZID=America/New_York:20250916T160000
DTEND;TZID=America/New_York:20250916T180000
DTSTAMP:20260420T033306
CREATED:20250312T161857Z
LAST-MODIFIED:20250312T161857Z
UID:10000678-1758038400-1758045600@escenariotlx.com
SUMMARY:Taller profesional: Maquillaje Artístico\, hair style y Fashion Show
DESCRIPTION:Información e inscripciones:\n\n\nOficina de Coordinación del Centro de las Artes Tlaxcala\, Fernando Solana 1\, Primera Sección\, San Luis Apizaquito\, Apizaco\, Tlaxcala\, C.P. 90401.\n\n\nTel. 2414188960 Ext. 164
URL:https://escenariotlx.com/evento/taller-profesional-maquillaje-artistico-hair-style-y-fashion-show/2025-09-16/
LOCATION:Centro de las Artes Tlaxcala
CATEGORIES:Talleres
ATTACH;FMTTYPE=image/jpeg:https://escenariotlx.com/wp-content/uploads/2025/03/476865763_1039803058176551_7531445438528313020_n-1.jpg
END:VEVENT
BEGIN:VEVENT
DTSTART;TZID=America/New_York:20250909T160000
DTEND;TZID=America/New_York:20250909T180000
DTSTAMP:20260420T033306
CREATED:20250312T161857Z
LAST-MODIFIED:20250312T161857Z
UID:10000677-1757433600-1757440800@escenariotlx.com
SUMMARY:Taller profesional: Maquillaje Artístico\, hair style y Fashion Show
DESCRIPTION:Información e inscripciones:\n\n\nOficina de Coordinación del Centro de las Artes Tlaxcala\, Fernando Solana 1\, Primera Sección\, San Luis Apizaquito\, Apizaco\, Tlaxcala\, C.P. 90401.\n\n\nTel. 2414188960 Ext. 164
URL:https://escenariotlx.com/evento/taller-profesional-maquillaje-artistico-hair-style-y-fashion-show/2025-09-09/
LOCATION:Centro de las Artes Tlaxcala
CATEGORIES:Talleres
ATTACH;FMTTYPE=image/jpeg:https://escenariotlx.com/wp-content/uploads/2025/03/476865763_1039803058176551_7531445438528313020_n-1.jpg
END:VEVENT
BEGIN:VEVENT
DTSTART;TZID=America/New_York:20250902T160000
DTEND;TZID=America/New_York:20250902T180000
DTSTAMP:20260420T033306
CREATED:20250312T161857Z
LAST-MODIFIED:20250312T161857Z
UID:10000676-1756828800-1756836000@escenariotlx.com
SUMMARY:Taller profesional: Maquillaje Artístico\, hair style y Fashion Show
DESCRIPTION:Información e inscripciones:\n\n\nOficina de Coordinación del Centro de las Artes Tlaxcala\, Fernando Solana 1\, Primera Sección\, San Luis Apizaquito\, Apizaco\, Tlaxcala\, C.P. 90401.\n\n\nTel. 2414188960 Ext. 164
URL:https://escenariotlx.com/evento/taller-profesional-maquillaje-artistico-hair-style-y-fashion-show/2025-09-02/
LOCATION:Centro de las Artes Tlaxcala
CATEGORIES:Talleres
ATTACH;FMTTYPE=image/jpeg:https://escenariotlx.com/wp-content/uploads/2025/03/476865763_1039803058176551_7531445438528313020_n-1.jpg
END:VEVENT
BEGIN:VEVENT
DTSTART;TZID=America/New_York:20250826T160000
DTEND;TZID=America/New_York:20250826T180000
DTSTAMP:20260420T033306
CREATED:20250312T161857Z
LAST-MODIFIED:20250312T161857Z
UID:10000675-1756224000-1756231200@escenariotlx.com
SUMMARY:Taller profesional: Maquillaje Artístico\, hair style y Fashion Show
DESCRIPTION:Información e inscripciones:\n\n\nOficina de Coordinación del Centro de las Artes Tlaxcala\, Fernando Solana 1\, Primera Sección\, San Luis Apizaquito\, Apizaco\, Tlaxcala\, C.P. 90401.\n\n\nTel. 2414188960 Ext. 164
URL:https://escenariotlx.com/evento/taller-profesional-maquillaje-artistico-hair-style-y-fashion-show/2025-08-26/
LOCATION:Centro de las Artes Tlaxcala
CATEGORIES:Talleres
ATTACH;FMTTYPE=image/jpeg:https://escenariotlx.com/wp-content/uploads/2025/03/476865763_1039803058176551_7531445438528313020_n-1.jpg
END:VEVENT
BEGIN:VEVENT
DTSTART;TZID=America/New_York:20250819T160000
DTEND;TZID=America/New_York:20250819T180000
DTSTAMP:20260420T033306
CREATED:20250312T161857Z
LAST-MODIFIED:20250312T161857Z
UID:10000674-1755619200-1755626400@escenariotlx.com
SUMMARY:Taller profesional: Maquillaje Artístico\, hair style y Fashion Show
DESCRIPTION:Información e inscripciones:\n\n\nOficina de Coordinación del Centro de las Artes Tlaxcala\, Fernando Solana 1\, Primera Sección\, San Luis Apizaquito\, Apizaco\, Tlaxcala\, C.P. 90401.\n\n\nTel. 2414188960 Ext. 164
URL:https://escenariotlx.com/evento/taller-profesional-maquillaje-artistico-hair-style-y-fashion-show/2025-08-19/
LOCATION:Centro de las Artes Tlaxcala
CATEGORIES:Talleres
ATTACH;FMTTYPE=image/jpeg:https://escenariotlx.com/wp-content/uploads/2025/03/476865763_1039803058176551_7531445438528313020_n-1.jpg
END:VEVENT
BEGIN:VEVENT
DTSTART;TZID=America/New_York:20250812T160000
DTEND;TZID=America/New_York:20250812T180000
DTSTAMP:20260420T033306
CREATED:20250312T161857Z
LAST-MODIFIED:20250312T161857Z
UID:10000673-1755014400-1755021600@escenariotlx.com
SUMMARY:Taller profesional: Maquillaje Artístico\, hair style y Fashion Show
DESCRIPTION:Información e inscripciones:\n\n\nOficina de Coordinación del Centro de las Artes Tlaxcala\, Fernando Solana 1\, Primera Sección\, San Luis Apizaquito\, Apizaco\, Tlaxcala\, C.P. 90401.\n\n\nTel. 2414188960 Ext. 164
URL:https://escenariotlx.com/evento/taller-profesional-maquillaje-artistico-hair-style-y-fashion-show/2025-08-12/
LOCATION:Centro de las Artes Tlaxcala
CATEGORIES:Talleres
ATTACH;FMTTYPE=image/jpeg:https://escenariotlx.com/wp-content/uploads/2025/03/476865763_1039803058176551_7531445438528313020_n-1.jpg
END:VEVENT
BEGIN:VEVENT
DTSTART;TZID=America/New_York:20250805T160000
DTEND;TZID=America/New_York:20250805T180000
DTSTAMP:20260420T033306
CREATED:20250312T161857Z
LAST-MODIFIED:20250312T161857Z
UID:10000672-1754409600-1754416800@escenariotlx.com
SUMMARY:Taller profesional: Maquillaje Artístico\, hair style y Fashion Show
DESCRIPTION:Información e inscripciones:\n\n\nOficina de Coordinación del Centro de las Artes Tlaxcala\, Fernando Solana 1\, Primera Sección\, San Luis Apizaquito\, Apizaco\, Tlaxcala\, C.P. 90401.\n\n\nTel. 2414188960 Ext. 164
URL:https://escenariotlx.com/evento/taller-profesional-maquillaje-artistico-hair-style-y-fashion-show/2025-08-05/
LOCATION:Centro de las Artes Tlaxcala
CATEGORIES:Talleres
ATTACH;FMTTYPE=image/jpeg:https://escenariotlx.com/wp-content/uploads/2025/03/476865763_1039803058176551_7531445438528313020_n-1.jpg
END:VEVENT
BEGIN:VEVENT
DTSTART;TZID=America/New_York:20250729T160000
DTEND;TZID=America/New_York:20250729T180000
DTSTAMP:20260420T033306
CREATED:20250312T161857Z
LAST-MODIFIED:20250312T161857Z
UID:10000671-1753804800-1753812000@escenariotlx.com
SUMMARY:Taller profesional: Maquillaje Artístico\, hair style y Fashion Show
DESCRIPTION:Información e inscripciones:\n\n\nOficina de Coordinación del Centro de las Artes Tlaxcala\, Fernando Solana 1\, Primera Sección\, San Luis Apizaquito\, Apizaco\, Tlaxcala\, C.P. 90401.\n\n\nTel. 2414188960 Ext. 164
URL:https://escenariotlx.com/evento/taller-profesional-maquillaje-artistico-hair-style-y-fashion-show/2025-07-29/
LOCATION:Centro de las Artes Tlaxcala
CATEGORIES:Talleres
ATTACH;FMTTYPE=image/jpeg:https://escenariotlx.com/wp-content/uploads/2025/03/476865763_1039803058176551_7531445438528313020_n-1.jpg
END:VEVENT
BEGIN:VEVENT
DTSTART;TZID=America/New_York:20250722T160000
DTEND;TZID=America/New_York:20250722T180000
DTSTAMP:20260420T033306
CREATED:20250312T161857Z
LAST-MODIFIED:20250312T161857Z
UID:10000670-1753200000-1753207200@escenariotlx.com
SUMMARY:Taller profesional: Maquillaje Artístico\, hair style y Fashion Show
DESCRIPTION:Información e inscripciones:\n\n\nOficina de Coordinación del Centro de las Artes Tlaxcala\, Fernando Solana 1\, Primera Sección\, San Luis Apizaquito\, Apizaco\, Tlaxcala\, C.P. 90401.\n\n\nTel. 2414188960 Ext. 164
URL:https://escenariotlx.com/evento/taller-profesional-maquillaje-artistico-hair-style-y-fashion-show/2025-07-22/
LOCATION:Centro de las Artes Tlaxcala
CATEGORIES:Talleres
ATTACH;FMTTYPE=image/jpeg:https://escenariotlx.com/wp-content/uploads/2025/03/476865763_1039803058176551_7531445438528313020_n-1.jpg
END:VEVENT
BEGIN:VEVENT
DTSTART;TZID=America/New_York:20250715T160000
DTEND;TZID=America/New_York:20250715T180000
DTSTAMP:20260420T033306
CREATED:20250312T161857Z
LAST-MODIFIED:20250312T161857Z
UID:10000669-1752595200-1752602400@escenariotlx.com
SUMMARY:Taller profesional: Maquillaje Artístico\, hair style y Fashion Show
DESCRIPTION:Información e inscripciones:\n\n\nOficina de Coordinación del Centro de las Artes Tlaxcala\, Fernando Solana 1\, Primera Sección\, San Luis Apizaquito\, Apizaco\, Tlaxcala\, C.P. 90401.\n\n\nTel. 2414188960 Ext. 164
URL:https://escenariotlx.com/evento/taller-profesional-maquillaje-artistico-hair-style-y-fashion-show/2025-07-15/
LOCATION:Centro de las Artes Tlaxcala
CATEGORIES:Talleres
ATTACH;FMTTYPE=image/jpeg:https://escenariotlx.com/wp-content/uploads/2025/03/476865763_1039803058176551_7531445438528313020_n-1.jpg
END:VEVENT
BEGIN:VEVENT
DTSTART;TZID=America/New_York:20250708T160000
DTEND;TZID=America/New_York:20250708T180000
DTSTAMP:20260420T033306
CREATED:20250312T161857Z
LAST-MODIFIED:20250312T161857Z
UID:10000668-1751990400-1751997600@escenariotlx.com
SUMMARY:Taller profesional: Maquillaje Artístico\, hair style y Fashion Show
DESCRIPTION:Información e inscripciones:\n\n\nOficina de Coordinación del Centro de las Artes Tlaxcala\, Fernando Solana 1\, Primera Sección\, San Luis Apizaquito\, Apizaco\, Tlaxcala\, C.P. 90401.\n\n\nTel. 2414188960 Ext. 164
URL:https://escenariotlx.com/evento/taller-profesional-maquillaje-artistico-hair-style-y-fashion-show/2025-07-08/
LOCATION:Centro de las Artes Tlaxcala
CATEGORIES:Talleres
ATTACH;FMTTYPE=image/jpeg:https://escenariotlx.com/wp-content/uploads/2025/03/476865763_1039803058176551_7531445438528313020_n-1.jpg
END:VEVENT
BEGIN:VEVENT
DTSTART;TZID=America/New_York:20250701T160000
DTEND;TZID=America/New_York:20250701T180000
DTSTAMP:20260420T033306
CREATED:20250312T161857Z
LAST-MODIFIED:20250312T161857Z
UID:10000667-1751385600-1751392800@escenariotlx.com
SUMMARY:Taller profesional: Maquillaje Artístico\, hair style y Fashion Show
DESCRIPTION:Información e inscripciones:\n\n\nOficina de Coordinación del Centro de las Artes Tlaxcala\, Fernando Solana 1\, Primera Sección\, San Luis Apizaquito\, Apizaco\, Tlaxcala\, C.P. 90401.\n\n\nTel. 2414188960 Ext. 164
URL:https://escenariotlx.com/evento/taller-profesional-maquillaje-artistico-hair-style-y-fashion-show/2025-07-01/
LOCATION:Centro de las Artes Tlaxcala
CATEGORIES:Talleres
ATTACH;FMTTYPE=image/jpeg:https://escenariotlx.com/wp-content/uploads/2025/03/476865763_1039803058176551_7531445438528313020_n-1.jpg
END:VEVENT
BEGIN:VEVENT
DTSTART;TZID=America/New_York:20250625T150000
DTEND;TZID=America/New_York:20250625T190000
DTSTAMP:20260420T033306
CREATED:20250620T155417Z
LAST-MODIFIED:20250620T155417Z
UID:10002162-1750863600-1750878000@escenariotlx.com
SUMMARY:Curso de Narración Oral Escénica
DESCRIPTION:
URL:https://escenariotlx.com/evento/curso-de-narracion-oral-escenica/
LOCATION:Centro de las Artes Tlaxcala
CATEGORIES:Cursos
ATTACH;FMTTYPE=image/jpeg:https://escenariotlx.com/wp-content/uploads/2025/06/509357062_1151378490364564_6324012350545530969_n.jpg
END:VEVENT
BEGIN:VEVENT
DTSTART;TZID=America/New_York:20250624T160000
DTEND;TZID=America/New_York:20250624T180000
DTSTAMP:20260420T033306
CREATED:20250312T161857Z
LAST-MODIFIED:20250312T161857Z
UID:10000666-1750780800-1750788000@escenariotlx.com
SUMMARY:Taller profesional: Maquillaje Artístico\, hair style y Fashion Show
DESCRIPTION:Información e inscripciones:\n\n\nOficina de Coordinación del Centro de las Artes Tlaxcala\, Fernando Solana 1\, Primera Sección\, San Luis Apizaquito\, Apizaco\, Tlaxcala\, C.P. 90401.\n\n\nTel. 2414188960 Ext. 164
URL:https://escenariotlx.com/evento/taller-profesional-maquillaje-artistico-hair-style-y-fashion-show/2025-06-24/
LOCATION:Centro de las Artes Tlaxcala
CATEGORIES:Talleres
ATTACH;FMTTYPE=image/jpeg:https://escenariotlx.com/wp-content/uploads/2025/03/476865763_1039803058176551_7531445438528313020_n-1.jpg
END:VEVENT
BEGIN:VEVENT
DTSTART;TZID=America/New_York:20250617T160000
DTEND;TZID=America/New_York:20250617T180000
DTSTAMP:20260420T033306
CREATED:20250312T161857Z
LAST-MODIFIED:20250312T161857Z
UID:10000665-1750176000-1750183200@escenariotlx.com
SUMMARY:Taller profesional: Maquillaje Artístico\, hair style y Fashion Show
DESCRIPTION:Información e inscripciones:\n\n\nOficina de Coordinación del Centro de las Artes Tlaxcala\, Fernando Solana 1\, Primera Sección\, San Luis Apizaquito\, Apizaco\, Tlaxcala\, C.P. 90401.\n\n\nTel. 2414188960 Ext. 164
URL:https://escenariotlx.com/evento/taller-profesional-maquillaje-artistico-hair-style-y-fashion-show/2025-06-17/
LOCATION:Centro de las Artes Tlaxcala
CATEGORIES:Talleres
ATTACH;FMTTYPE=image/jpeg:https://escenariotlx.com/wp-content/uploads/2025/03/476865763_1039803058176551_7531445438528313020_n-1.jpg
END:VEVENT
BEGIN:VEVENT
DTSTART;TZID=America/New_York:20250610T160000
DTEND;TZID=America/New_York:20250610T180000
DTSTAMP:20260420T033306
CREATED:20250312T161857Z
LAST-MODIFIED:20250312T161857Z
UID:10000664-1749571200-1749578400@escenariotlx.com
SUMMARY:Taller profesional: Maquillaje Artístico\, hair style y Fashion Show
DESCRIPTION:Información e inscripciones:\n\n\nOficina de Coordinación del Centro de las Artes Tlaxcala\, Fernando Solana 1\, Primera Sección\, San Luis Apizaquito\, Apizaco\, Tlaxcala\, C.P. 90401.\n\n\nTel. 2414188960 Ext. 164
URL:https://escenariotlx.com/evento/taller-profesional-maquillaje-artistico-hair-style-y-fashion-show/2025-06-10/
LOCATION:Centro de las Artes Tlaxcala
CATEGORIES:Talleres
ATTACH;FMTTYPE=image/jpeg:https://escenariotlx.com/wp-content/uploads/2025/03/476865763_1039803058176551_7531445438528313020_n-1.jpg
END:VEVENT
BEGIN:VEVENT
DTSTART;TZID=America/New_York:20250603T160000
DTEND;TZID=America/New_York:20250603T180000
DTSTAMP:20260420T033306
CREATED:20250312T161857Z
LAST-MODIFIED:20250312T161857Z
UID:10000663-1748966400-1748973600@escenariotlx.com
SUMMARY:Taller profesional: Maquillaje Artístico\, hair style y Fashion Show
DESCRIPTION:Información e inscripciones:\n\n\nOficina de Coordinación del Centro de las Artes Tlaxcala\, Fernando Solana 1\, Primera Sección\, San Luis Apizaquito\, Apizaco\, Tlaxcala\, C.P. 90401.\n\n\nTel. 2414188960 Ext. 164
URL:https://escenariotlx.com/evento/taller-profesional-maquillaje-artistico-hair-style-y-fashion-show/2025-06-03/
LOCATION:Centro de las Artes Tlaxcala
CATEGORIES:Talleres
ATTACH;FMTTYPE=image/jpeg:https://escenariotlx.com/wp-content/uploads/2025/03/476865763_1039803058176551_7531445438528313020_n-1.jpg
END:VEVENT
BEGIN:VEVENT
DTSTART;TZID=America/New_York:20250527T160000
DTEND;TZID=America/New_York:20250527T180000
DTSTAMP:20260420T033306
CREATED:20250312T161857Z
LAST-MODIFIED:20250312T161857Z
UID:10000662-1748361600-1748368800@escenariotlx.com
SUMMARY:Taller profesional: Maquillaje Artístico\, hair style y Fashion Show
DESCRIPTION:Información e inscripciones:\n\n\nOficina de Coordinación del Centro de las Artes Tlaxcala\, Fernando Solana 1\, Primera Sección\, San Luis Apizaquito\, Apizaco\, Tlaxcala\, C.P. 90401.\n\n\nTel. 2414188960 Ext. 164
URL:https://escenariotlx.com/evento/taller-profesional-maquillaje-artistico-hair-style-y-fashion-show/2025-05-27/
LOCATION:Centro de las Artes Tlaxcala
CATEGORIES:Talleres
ATTACH;FMTTYPE=image/jpeg:https://escenariotlx.com/wp-content/uploads/2025/03/476865763_1039803058176551_7531445438528313020_n-1.jpg
END:VEVENT
BEGIN:VEVENT
DTSTART;TZID=America/New_York:20250520T160000
DTEND;TZID=America/New_York:20250520T180000
DTSTAMP:20260420T033306
CREATED:20250312T161857Z
LAST-MODIFIED:20250312T161857Z
UID:10000661-1747756800-1747764000@escenariotlx.com
SUMMARY:Taller profesional: Maquillaje Artístico\, hair style y Fashion Show
DESCRIPTION:Información e inscripciones:\n\n\nOficina de Coordinación del Centro de las Artes Tlaxcala\, Fernando Solana 1\, Primera Sección\, San Luis Apizaquito\, Apizaco\, Tlaxcala\, C.P. 90401.\n\n\nTel. 2414188960 Ext. 164
URL:https://escenariotlx.com/evento/taller-profesional-maquillaje-artistico-hair-style-y-fashion-show/2025-05-20/
LOCATION:Centro de las Artes Tlaxcala
CATEGORIES:Talleres
ATTACH;FMTTYPE=image/jpeg:https://escenariotlx.com/wp-content/uploads/2025/03/476865763_1039803058176551_7531445438528313020_n-1.jpg
END:VEVENT
BEGIN:VEVENT
DTSTART;TZID=America/New_York:20250513T160000
DTEND;TZID=America/New_York:20250513T180000
DTSTAMP:20260420T033306
CREATED:20250312T161857Z
LAST-MODIFIED:20250312T161857Z
UID:10000660-1747152000-1747159200@escenariotlx.com
SUMMARY:Taller profesional: Maquillaje Artístico\, hair style y Fashion Show
DESCRIPTION:Información e inscripciones:\n\n\nOficina de Coordinación del Centro de las Artes Tlaxcala\, Fernando Solana 1\, Primera Sección\, San Luis Apizaquito\, Apizaco\, Tlaxcala\, C.P. 90401.\n\n\nTel. 2414188960 Ext. 164
URL:https://escenariotlx.com/evento/taller-profesional-maquillaje-artistico-hair-style-y-fashion-show/2025-05-13/
LOCATION:Centro de las Artes Tlaxcala
CATEGORIES:Talleres
ATTACH;FMTTYPE=image/jpeg:https://escenariotlx.com/wp-content/uploads/2025/03/476865763_1039803058176551_7531445438528313020_n-1.jpg
END:VEVENT
END:VCALENDAR