BEGIN:VCALENDAR
VERSION:2.0
PRODID:-//Escenario Tlaxcala - ECPv6.15.16//NONSGML v1.0//EN
CALSCALE:GREGORIAN
METHOD:PUBLISH
X-ORIGINAL-URL:https://escenariotlx.com
X-WR-CALDESC:Eventos para Escenario Tlaxcala
REFRESH-INTERVAL;VALUE=DURATION:PT1H
X-Robots-Tag:noindex
X-PUBLISHED-TTL:PT1H
BEGIN:VTIMEZONE
TZID:America/New_York
BEGIN:DAYLIGHT
TZOFFSETFROM:-0500
TZOFFSETTO:-0400
TZNAME:EDT
DTSTART:20220313T070000
END:DAYLIGHT
BEGIN:STANDARD
TZOFFSETFROM:-0400
TZOFFSETTO:-0500
TZNAME:EST
DTSTART:20221106T060000
END:STANDARD
BEGIN:DAYLIGHT
TZOFFSETFROM:-0500
TZOFFSETTO:-0400
TZNAME:EDT
DTSTART:20230312T070000
END:DAYLIGHT
BEGIN:STANDARD
TZOFFSETFROM:-0400
TZOFFSETTO:-0500
TZNAME:EST
DTSTART:20231105T060000
END:STANDARD
BEGIN:DAYLIGHT
TZOFFSETFROM:-0500
TZOFFSETTO:-0400
TZNAME:EDT
DTSTART:20240310T070000
END:DAYLIGHT
BEGIN:STANDARD
TZOFFSETFROM:-0400
TZOFFSETTO:-0500
TZNAME:EST
DTSTART:20241103T060000
END:STANDARD
BEGIN:DAYLIGHT
TZOFFSETFROM:-0500
TZOFFSETTO:-0400
TZNAME:EDT
DTSTART:20250309T070000
END:DAYLIGHT
BEGIN:STANDARD
TZOFFSETFROM:-0400
TZOFFSETTO:-0500
TZNAME:EST
DTSTART:20251102T060000
END:STANDARD
BEGIN:DAYLIGHT
TZOFFSETFROM:-0500
TZOFFSETTO:-0400
TZNAME:EDT
DTSTART:20260308T070000
END:DAYLIGHT
BEGIN:STANDARD
TZOFFSETFROM:-0400
TZOFFSETTO:-0500
TZNAME:EST
DTSTART:20261101T060000
END:STANDARD
BEGIN:DAYLIGHT
TZOFFSETFROM:-0500
TZOFFSETTO:-0400
TZNAME:EDT
DTSTART:20270314T070000
END:DAYLIGHT
BEGIN:STANDARD
TZOFFSETFROM:-0400
TZOFFSETTO:-0500
TZNAME:EST
DTSTART:20271107T060000
END:STANDARD
END:VTIMEZONE
BEGIN:VEVENT
DTSTART;TZID=America/New_York:20260406T080000
DTEND;TZID=America/New_York:20260406T170000
DTSTAMP:20260420T122045
CREATED:20260406T213411Z
LAST-MODIFIED:20260406T214201Z
UID:10002678-1775462400-1775494800@escenariotlx.com
SUMMARY:Palestina en Tlaxcala: Un diálogo desde el Museo Miguel N. Lira
DESCRIPTION:El Museo Miguel N. Lira será un espacio para el diálogo «Palestina en Tlaxcala». Esta muestra une la mirada documental y artística de dos creadores para ofrecer una perspectiva única sobre la realidad y la estética de ambas naciones. \nA través del lente del fotógrafo Ahmed Younis y la propuesta pictórica de Néstor Quiñones\, la exhibición busca tender puentes de entendimiento y reflexión mediante el lenguaje universal del arte. \nDetalles del diálogo «Palestina en Tlaxcala»\n\n¿Cuándo? Martes 7 de abril.\n¿Hora? 14:00 horas.\n¿Lugar? Sala de Exposiciones del Museo Miguel N. Lira.\n\nDirección: Av. Independencia No. 6\, Col. Centro\, Tlaxcala
URL:https://escenariotlx.com/evento/palestina-en-tlaxcala-un-dialogo-desde/
LOCATION:Museo Miguel N. Lira Oficial\, Av. Independencia No. 6\, Col. Centro\, Tlaxcala\, Tlaxcala\, 90000\, México
ATTACH;FMTTYPE=image/jpeg:https://escenariotlx.com/wp-content/uploads/2026/04/palestina-en-Tlaxcala.jpg
END:VEVENT
BEGIN:VEVENT
DTSTART;TZID=America/New_York:20260305T110000
DTEND;TZID=America/New_York:20260305T130000
DTSTAMP:20260420T122045
CREATED:20260223T232418Z
LAST-MODIFIED:20260223T232418Z
UID:10002519-1772708400-1772715600@escenariotlx.com
SUMMARY:Taller de Autobiografía en el Museo Miguel N. Lira
DESCRIPTION:Si alguna vez has sentido que tus vivencias merecen ser contadas\, el Museo Miguel N. Lira abre un espacio único para ti. Bajo la guía del escritor y periodista Ricardo Clark\, este taller te invita a estructurar el relato de tu vida\, sin importar si no tienes experiencia previa en la escritura. \nEl objetivo es crear un puente entre el pasado y el futuro\, permitiéndote compartir tus anécdotas más valiosas con hijos\, nietos y seres queridos. Es una oportunidad de oro para explorar tu propia narrativa en el corazón de Tlaxcala. \n\nCuándo: Jueves 5 de marzo\nHorario: 11:00 a.m.\nDónde: Museo Miguel N. Lira (Av. Independencia 7\, Centro\, Tlaxcala)\nPúblico: Jóvenes y adultos\nInformes: 246 117 5209
URL:https://escenariotlx.com/evento/taller-de-autobiografia-en-el-museo-miguel-n-lira/
LOCATION:Museo Miguel N. Lira Oficial\, Av. Independencia No. 6\, Col. Centro\, Tlaxcala\, Tlaxcala\, 90000\, México
CATEGORIES:Talleres
ATTACH;FMTTYPE=image/jpeg:https://escenariotlx.com/wp-content/uploads/2026/02/641472258_1369411405227937_4900281990852277972_n.jpg
END:VEVENT
BEGIN:VEVENT
DTSTART;TZID=America/New_York:20260207T120000
DTEND;TZID=America/New_York:20260207T140000
DTSTAMP:20260420T122045
CREATED:20260119T180906Z
LAST-MODIFIED:20260119T180907Z
UID:10002464-1770465600-1770472800@escenariotlx.com
SUMMARY:Presentación de libros de Débora Hadaza en el Museo Miguel N. Lira
DESCRIPTION:Este sábado 7 de febrero se realizará la presentación de los libros Hysterias de Memoria\, Pulsión y Olvido e Historias de Horror Doméstico\, de la escritora Débora Hadaza. La actividad contará con la participación de la Mtra. Rocío Itzel Martínez González y el Mtro. Alejandro Carrillo Valero\, y será moderada por la Mtra. Nayeli Montiel. \nDía: Sábado 7 de febrero \nHorario: 12:00 horas \nLugar: Auditorio del Museo Miguel N. Lira
URL:https://escenariotlx.com/evento/presentacion-libros-debora-hadaza-museo/
LOCATION:Museo Miguel N. Lira Oficial\, Av. Independencia No. 6\, Col. Centro\, Tlaxcala\, Tlaxcala\, 90000\, México
CATEGORIES:Libros,Museos
ATTACH;FMTTYPE=image/jpeg:https://escenariotlx.com/wp-content/uploads/2026/01/615975848_1489146173219178_4452660512050814298_n.jpg
END:VEVENT
BEGIN:VEVENT
DTSTART;TZID=America/New_York:20260130T170000
DTEND;TZID=America/New_York:20260130T200000
DTSTAMP:20260420T122045
CREATED:20260121T231114Z
LAST-MODIFIED:20260121T231136Z
UID:10002466-1769792400-1769803200@escenariotlx.com
SUMMARY:“Fiesta de Lectura”: taller para fomentar el hábito lector inicia este 30 de enero
DESCRIPTION:Con el objetivo de fomentar el hábito de la lectura y fortalecer una comunidad lectora activa\, se llevará a cabo el taller “Fiesta de Lectura”\, impartido por la maestra Berenice A. Lobato en el Museo de Miguel N. Lira. \nLa actividad está dirigida a personas interesadas en compartir experiencias en torno a los libros y desarrollar el gusto por la lectura en un espacio colaborativo. \nDatos clave: \n\nInicio: 30 de enero de 2026\nHorario: 18:00 a 20:00 horas\nSede: Museo Miguel N. Lira\nInformes e inscripciones: WhatsApp 55 8420 2717\n\nLa invitación está abierta al público interesado. Los organizadores invitan a asistir con “los libros abiertos” y disposición para compartir la lectura.
URL:https://escenariotlx.com/evento/fiesta-de-lectura-taller-lector-30-enero/
LOCATION:Museo Miguel N. Lira Oficial\, Av. Independencia No. 6\, Col. Centro\, Tlaxcala\, Tlaxcala\, 90000\, México
CATEGORIES:Talleres
ATTACH;FMTTYPE=image/jpeg:https://escenariotlx.com/wp-content/uploads/2026/01/616133042_1490130166454112_3832841924346736659_n.jpg
END:VEVENT
BEGIN:VEVENT
DTSTART;TZID=America/New_York:20251214T093000
DTEND;TZID=America/New_York:20251214T140000
DTSTAMP:20260420T122045
CREATED:20251208T194229Z
LAST-MODIFIED:20251208T194229Z
UID:10002444-1765704600-1765720800@escenariotlx.com
SUMMARY:Se acerca el XIV Festival de Montaña  y Escalada\, Tlaxcala 2025
DESCRIPTION:El día 14 domingo el Museo Miguel N. Lira será sede del XIV Festival de Montaña  y Escalada\, Tlaxcala 2025. \nDe la mano de F2\, Sala de Escalada se realizará este evento que brindará una serie de conferencias relacionadas con el mundo de la escalada\, así como participaciones de relatos y experiencias sobre la escalda en el estado. \nHorario: 9:30 am a 2:00 pm. \nLugar: Museo Miguel N. Lira.
URL:https://escenariotlx.com/evento/xiv-festival-de-montana-escalada-tlaxcala/
LOCATION:Museo Miguel N. Lira Oficial\, Av. Independencia No. 6\, Col. Centro\, Tlaxcala\, Tlaxcala\, 90000\, México
CATEGORIES:Conversatorio,Exposición,Festivales
ATTACH;FMTTYPE=image/jpeg:https://escenariotlx.com/wp-content/uploads/2025/12/595205715_1454328150034314_1211759291084164372_n.jpg
END:VEVENT
BEGIN:VEVENT
DTSTART;TZID=America/New_York:20251210T170000
DTEND;TZID=America/New_York:20251210T183000
DTSTAMP:20260420T122045
CREATED:20251205T154859Z
LAST-MODIFIED:20251205T154859Z
UID:10002440-1765386000-1765391400@escenariotlx.com
SUMMARY:Alejandro Paniagua presentará "También fui la fosa común de mi materia"
DESCRIPTION:El día 10 de diciembre se realizará la presentación editorial del libro «También fui la fosa común de mi materia» del escritor Alejandro Paniagua\, en la presentación estará acompañando la talentosa Angélica Ahuatzin. \nLugar: Auditorio del Museo Miguel N. Lira \nHora: 5:00 p.m. \n¡Entrada libre\, no faltes!
URL:https://escenariotlx.com/evento/alejandro-paniagua-tambien-comun-materia/
LOCATION:Museo Miguel N. Lira Oficial\, Av. Independencia No. 6\, Col. Centro\, Tlaxcala\, Tlaxcala\, 90000\, México
CATEGORIES:Presentación
ATTACH;FMTTYPE=image/jpeg:https://escenariotlx.com/wp-content/uploads/2025/12/592526185_1449343983866064_8512523095502287925_n.jpg
END:VEVENT
BEGIN:VEVENT
DTSTART;TZID=America/New_York:20251206T110000
DTEND;TZID=America/New_York:20251206T130000
DTSTAMP:20260420T122045
CREATED:20251202T155639Z
LAST-MODIFIED:20251202T155716Z
UID:10002436-1765018800-1765026000@escenariotlx.com
SUMMARY:Inauguración de "Los espacios que habitamos" en el Museo Miguel N. Lira
DESCRIPTION:El día 6 de diciembre se realizará la inauguración de la exposición «los espacios que habitamos» en el Museo Miguel N. Lira\, una intervención textil fotográfica en la que participa Casa Malintzin. Mujeres y Telares\, en el amrco de la conmemoriación del día 25 de noviembre. \nLugar: Sala de Exposiciones del Museo Miguel N. Lira \nHora: 11:00 a.m. \n¡Entrada libre\, no faltes!
URL:https://escenariotlx.com/evento/museo-miguel-n-lira-espacios-habitamos/
LOCATION:Museo Miguel N. Lira Oficial\, Av. Independencia No. 6\, Col. Centro\, Tlaxcala\, Tlaxcala\, 90000\, México
CATEGORIES:Exposición
ATTACH;FMTTYPE=image/jpeg:https://escenariotlx.com/wp-content/uploads/2025/12/591736939_1307454294730578_165054211413914606_n.jpg
END:VEVENT
BEGIN:VEVENT
DTSTART;TZID=America/New_York:20251127T170000
DTEND;TZID=America/New_York:20251127T183000
DTSTAMP:20260420T122045
CREATED:20251118T164035Z
LAST-MODIFIED:20251118T170431Z
UID:10002416-1764262800-1764268200@escenariotlx.com
SUMMARY:Presentación editorial de "Luz de naranjos" novela de César Gándara
DESCRIPTION:El jueves 27 de noviembre se realizará la presentación editorial del libro «Luz de Naranjos» una novela del escritor César Gándara (@gandaraelescritor)\, una de las voces narrativas más del país. La obra será comentada por la escritora tlaxcalteca Violeta Carrasco\, en diálogo con el autor. \n\nHabrá ejemplares de la novela a la venta\, para que puedan adquirir u libro y conversar directamente con César sobre su proceso creativo\, sus historias y su mirada literaria.\n\n\n\n\nPresentación: 5:00 p.m. \nLugar: Museo Miguel N. Lira. \n¡Entrada libre!
URL:https://escenariotlx.com/evento/presentacion-editorial-luz-naranjos-cesar/
LOCATION:Museo Miguel N. Lira Oficial\, Av. Independencia No. 6\, Col. Centro\, Tlaxcala\, Tlaxcala\, 90000\, México
CATEGORIES:Presentación
ATTACH;FMTTYPE=image/jpeg:https://escenariotlx.com/wp-content/uploads/2025/11/582329028_1433607012106428_931453918941887978_n.jpg
END:VEVENT
BEGIN:VEVENT
DTSTART;TZID=America/New_York:20251125T120000
DTEND;TZID=America/New_York:20251125T140000
DTSTAMP:20260420T122045
CREATED:20251124T164232Z
LAST-MODIFIED:20251124T164232Z
UID:10002424-1764072000-1764079200@escenariotlx.com
SUMMARY:Poesía en resistencia para universitarias en el Museo Miguel N. Lira
DESCRIPTION:En conmemoración por el día 25 de noviembre\, día internacional de la eliminación de la violencia contra la mujer\, el Museo Miguel N. Lira invita a participar en la actividad «Poesía en resistencia para universitarias»\, realizada por alumnas de la Universidad Autónoma de Tlaxcala. \nHora: 12:00 p.m. \nLugar: Auditorio del Museo. \n¡Entrada libre\, no faltes! \n  \n 
URL:https://escenariotlx.com/evento/poesia-en-resistencia-universitarias-museo/
LOCATION:Museo Miguel N. Lira Oficial\, Av. Independencia No. 6\, Col. Centro\, Tlaxcala\, Tlaxcala\, 90000\, México
CATEGORIES:Conversatorio,Foro
ATTACH;FMTTYPE=image/jpeg:https://escenariotlx.com/wp-content/uploads/2025/11/588827154_1442229561244173_6462574042729934529_n.jpg
END:VEVENT
BEGIN:VEVENT
DTSTART;TZID=America/New_York:20251107T100000
DTEND;TZID=America/New_York:20251113T190000
DTSTAMP:20260420T122045
CREATED:20251104T182516Z
LAST-MODIFIED:20251104T182931Z
UID:10002386-1762509600-1763060400@escenariotlx.com
SUMMARY:Del 7 al 13 de noviembre vive la "Semana del Libro" en el Museo Miguel N. Lira
DESCRIPTION:Del 7 al 13 de noviembre se realizará la «Semana del Libro» en el Museo Miguel N. Lira. Durante estos días se realizarán múltiples actividades para celebrar el día del libro. Entre las actividades habrán talleres\, jornadas de lectura y presentaciones de libros. \nTodas las actividades son totalmente gratuitas y aptas para todo público. \nLas sedes serán: COBAT 13 de Papalotla\, Museo Miguel N. Lira\, Bosque de Chapultepec CDMX y la Universidad Intercultural Tlaxcala.
URL:https://escenariotlx.com/evento/noviembre-semana-del-libro-museo-miguel-n/
LOCATION:Museo Miguel N. Lira Oficial\, Av. Independencia No. 6\, Col. Centro\, Tlaxcala\, Tlaxcala\, 90000\, México
CATEGORIES:Libros,Museos,Talleres
ATTACH;FMTTYPE=image/jpeg:https://escenariotlx.com/wp-content/uploads/2025/11/574911545_1423004499833346_7882985903915558328_n.jpg
END:VEVENT
BEGIN:VEVENT
DTSTART;TZID=America/New_York:20230602T170000
DTEND;TZID=America/New_York:20230602T190000
DTSTAMP:20260420T122045
CREATED:20230529T155754Z
LAST-MODIFIED:20230529T155754Z
UID:10000338-1685725200-1685732400@escenariotlx.com
SUMMARY:Presentación del libro “El reino de lo no lineal” de Elisa Díaz Castelo
DESCRIPTION:Si no pudiste inscribirte al Diplomado de creación literaria del INBAL el Museo Miguel N. Lira tiene una opción para ti. \nLas maravillosas escritoras y escritores que nos visitarán estarán presentando su obra para el público en general\, comenzamos este ciclo de presentaciones con el libro deslumbrante de Elisa Díaz Castelo\, “El reino de lo no lineal”. \nPresentan Violeta Carrasco y Luis Flores R. \nEl viernes 2 de Junio a las 17:00 hrs. en las instalaciones del Museo Miguel N. Lira. \nNo te pierdas esta gran oportunidad. \n¡Pasa la voz! \n \n\nTe puede interesar este evento: Pasarela tlaxcalteca “Arte del Jaspe” en Fibras Naturales
URL:https://escenariotlx.com/evento/presentacion-libro-reino-de-lo-no-lineal/
LOCATION:Museo Miguel N. Lira Oficial\, Av. Independencia No. 6\, Col. Centro\, Tlaxcala\, Tlaxcala\, 90000\, México
CATEGORIES:Libros,Museos
ATTACH;FMTTYPE=image/png:https://escenariotlx.com/wp-content/uploads/2023/05/reino.png
END:VEVENT
BEGIN:VEVENT
DTSTART;TZID=America/New_York:20230215T103000
DTEND;TZID=America/New_York:20230215T113000
DTSTAMP:20260420T122045
CREATED:20230202T205320Z
LAST-MODIFIED:20230202T205320Z
UID:10000226-1676457000-1676460600@escenariotlx.com
SUMMARY:Presentación del libro "Renacer"
DESCRIPTION:El Museo N. Lira invita a la presentación del libro «Renacer» de Juan Antonio Laserna Martínez presenta Renata Luna\, el acceso es completamente gratuito. \n«No valgo nada»\, «Es imposible que un hombre me quiera»\, «Todo me sale mal»… Estas tres afirmaciones marcaron profundamente la actitud frente a la vida de la protagonista de este libro y desencadenaron su particular proceso de autodestrucción; hasta que perdió toda ilusión por vivir. \n Miércoles 15 de febrero\n 10:30 a.m.\nAuditorio del Museo \n \n 
URL:https://escenariotlx.com/evento/presentacion-del-libro-renacer/
LOCATION:Museo Miguel N. Lira Oficial\, Av. Independencia No. 6\, Col. Centro\, Tlaxcala\, Tlaxcala\, 90000\, México
CATEGORIES:Libros
ATTACH;FMTTYPE=image/png:https://escenariotlx.com/wp-content/uploads/2023/02/328781998_878525476735534_5872552818942132876_n.png
END:VEVENT
BEGIN:VEVENT
DTSTART;TZID=America/New_York:20230210T170000
DTEND;TZID=America/New_York:20230210T200000
DTSTAMP:20260420T122045
CREATED:20230202T190819Z
LAST-MODIFIED:20230202T190819Z
UID:10000225-1676048400-1676059200@escenariotlx.com
SUMMARY:Electropercusión
DESCRIPTION:El Museo N.Lira invita a no perderse de la presentación de «Electropercusión» participan: Tania Govea\, Arturo Mendoza y Daniel Beltrán\, quienes nos presentan su disco Tlaxcalli música del maíz.\nVienes 10 de febrero\n05:00 pm\nInstalaciones del Museo\nAcceso Gratuito
URL:https://escenariotlx.com/evento/electropercusion/
LOCATION:Museo Miguel N. Lira Oficial\, Av. Independencia No. 6\, Col. Centro\, Tlaxcala\, Tlaxcala\, 90000\, México
CATEGORIES:Conciertos
ATTACH;FMTTYPE=image/jpeg:https://escenariotlx.com/wp-content/uploads/2023/02/327888397_1281164692480948_4882970309595014475_n.jpg
END:VEVENT
BEGIN:VEVENT
DTSTART;TZID=America/New_York:20230203T160000
DTEND;TZID=America/New_York:20230309T180000
DTSTAMP:20260420T122045
CREATED:20230203T201521Z
LAST-MODIFIED:20230203T201521Z
UID:10000228-1675440000-1678384800@escenariotlx.com
SUMMARY:EL PARAÍSO DE LA SERPIENTE.
DESCRIPTION:La Sala de Arte Miguel N. Lira presenta: \nEL PARAÍSO DE LA SERPIENTE.\n«𝐷𝑒𝑠𝑝𝑢𝑒́𝑠 𝑑𝑒 𝑢𝑛 𝑎𝑝𝑎𝑟𝑎𝑡𝑜𝑠𝑜 𝑎𝑐𝑐𝑖𝑑𝑒𝑛𝑡𝑒 𝑒𝑛 𝑙𝑎 𝑐𝑎𝑟𝑟𝑒𝑡𝑒𝑟𝑎\, 𝑢𝑛 𝑚𝑖𝑠𝑡𝑒𝑟𝑖𝑜𝑠𝑜 ℎ𝑜𝑚𝑏𝑟𝑒 𝑒𝑠 𝑟𝑒𝑠𝑐𝑎𝑡𝑎𝑑𝑜 𝑝𝑜𝑟 𝑢𝑛 𝑗𝑜𝑣𝑒𝑛 𝑣𝑎𝑞𝑢𝑒𝑟𝑜 𝑦 𝑠𝑢 𝑎𝑏𝑢𝑒𝑙𝑜\, 𝑢𝑛 𝑝𝑒𝑙𝑒𝑎𝑑𝑜𝑟 𝑑𝑒 𝑔𝑎𝑙𝑙𝑜𝑠. 𝐶𝑢𝑎𝑛𝑑𝑜 𝑠𝑒 𝑟𝑒𝑐𝑢𝑝𝑒𝑟𝑎\, 𝑒𝑙 ℎ𝑜𝑚𝑏𝑟𝑒 𝑐𝑜𝑚𝑖𝑒𝑛𝑧𝑎 𝑎 𝑟𝑒𝑎𝑙𝑖𝑧𝑎𝑟 𝑚𝑖𝑙𝑎𝑔𝑟𝑜𝑠 𝑒𝑛 𝑒𝑙 𝑝𝑢𝑒𝑏𝑙𝑜: ℎ𝑎𝑐𝑒 𝑐𝑎𝑚𝑖𝑛𝑎𝑟 𝑎 𝑙𝑜𝑠 𝑖𝑛𝑣𝑎́𝑙𝑖𝑑𝑜𝑠\, 𝑑𝑒𝑣𝑢𝑒𝑙𝑣𝑒 𝑙𝑎 𝑣𝑖𝑠𝑡𝑎 𝑎 𝑙𝑜𝑠 𝑐𝑖𝑒𝑔𝑜𝑠\, 𝑐𝑢𝑟𝑎 𝑙𝑎 𝑝𝑒𝑠𝑡𝑒. 𝐿𝑎 𝑔𝑒𝑛𝑡𝑒 𝑒𝑚𝑝𝑖𝑒𝑧𝑎 𝑎 𝑙𝑙𝑎𝑚𝑎𝑟𝑙𝑜 𝑃𝑟𝑜𝑓𝑒𝑡𝑎. 𝐸𝑠𝑡𝑒 𝑝𝑜𝑑𝑒𝑟 𝑐𝑒𝑙𝑒𝑠𝑡𝑖𝑎𝑙\, 𝑠𝑖𝑛 𝑒𝑚𝑏𝑎𝑟𝑔𝑜\, 𝑛𝑜 𝑠𝑒𝑟𝑎́ 𝑏𝑖𝑒𝑛 𝑣𝑖𝑠𝑡𝑜 𝑝𝑜𝑟 𝑒𝑙 𝑠𝑎𝑐𝑒𝑟𝑑𝑜𝑡𝑒 𝑑𝑒 𝑙𝑎 𝑐𝑜𝑚𝑢𝑛𝑖𝑑𝑎𝑑\, 𝑞𝑢𝑖𝑒𝑛\, 𝑗𝑢𝑛𝑡𝑜 𝑎𝑙 𝑚𝑜𝑛𝑎𝑔𝑢𝑖𝑙𝑙𝑜\, 𝑏𝑢𝑠𝑐𝑎𝑟𝑎́ 𝑙𝑎 𝑚𝑎𝑛𝑒𝑟𝑎 𝑑𝑒 𝑑𝑒𝑠𝑎𝑐𝑟𝑒𝑑𝑖𝑡𝑎𝑟𝑙𝑜 𝑜 𝑞𝑢𝑖𝑧𝑎́\, 𝑑𝑒𝑠ℎ𝑎𝑐𝑒𝑟𝑠𝑒 𝑑𝑒 𝑒́𝑙»\nHorarios\, sinopsis\, tráiler y ficha técnica la encuentras en: www.coracyt.gob.mx/cine ¡No se pierdan este magnífico estreno! \nFecha: del 03 al 09 de Febrero \nHorario: 4:00 y 6:00 pm \nEntrada General: $30.00 pesos
URL:https://escenariotlx.com/evento/el-paraiso-de-la-serpiente/
LOCATION:Museo Miguel N. Lira Oficial\, Av. Independencia No. 6\, Col. Centro\, Tlaxcala\, Tlaxcala\, 90000\, México
CATEGORIES:Cine
ATTACH;FMTTYPE=image/jpeg:https://escenariotlx.com/wp-content/uploads/2023/02/328963153_3712068285693660_2923817676842354771_n.jpg
END:VEVENT
END:VCALENDAR